BEGIN:VCALENDAR
VERSION:2.0
PRODID:-//Uit in Arnhem - ECPv5.0.0.2//NONSGML v1.0//EN
CALSCALE:GREGORIAN
METHOD:PUBLISH
X-WR-CALNAME:Uit in Arnhem
X-ORIGINAL-URL:https://uitinarnhem.nl
X-WR-CALDESC:Events for Uit in Arnhem
BEGIN:VTIMEZONE
TZID:Europe/Amsterdam
BEGIN:DAYLIGHT
TZOFFSETFROM:+0100
TZOFFSETTO:+0200
TZNAME:CEST
DTSTART:20240331T010000
END:DAYLIGHT
BEGIN:STANDARD
TZOFFSETFROM:+0200
TZOFFSETTO:+0100
TZNAME:CET
DTSTART:20241027T010000
END:STANDARD
END:VTIMEZONE
BEGIN:VEVENT
DTSTART;TZID=Europe/Amsterdam:20240309T200000
DTEND;TZID=Europe/Amsterdam:20240309T220000
DTSTAMP:20260421T015749
CREATED:20240118T144921Z
LAST-MODIFIED:20240118T145017Z
UID:7321-1710014400-1710021600@uitinarnhem.nl
SUMMARY:Zuhause: premiere in Theater aan de Rijn
DESCRIPTION:Een familiedrama over omgaan met levensveranderend nieuws\, plotseling volwassen worden en het vinden van kleine geluksmomenten in een beschadigde\, dagelijkse situatie. Een surrealistische\, muzikale dans- en teksttheatervoorstelling\, op z’n Rotterdams: rauw en vol (zwarte) humor. \n
URL:https://uitinarnhem.nl/agenda/zuhause-premiere-in-theater-aan-de-rijn/
LOCATION:Theater aan de Rijn\, Rijnstraat 42\, Arnhem\, 6811 EX\, Nederland
CATEGORIES:Theater
ATTACH;FMTTYPE=image/jpeg:https://uitinarnhem.nl/wp-content/uploads/2024/01/Zuhause-Jongen-Je-Moeder-STILLS-jpg-7-900x740-1.jpg
END:VEVENT
END:VCALENDAR