BEGIN:VCALENDAR
VERSION:2.0
PRODID:-//Uit in Arnhem - ECPv5.0.0.2//NONSGML v1.0//EN
CALSCALE:GREGORIAN
METHOD:PUBLISH
X-WR-CALNAME:Uit in Arnhem
X-ORIGINAL-URL:https://uitinarnhem.nl
X-WR-CALDESC:Events for Uit in Arnhem
BEGIN:VTIMEZONE
TZID:Europe/Amsterdam
BEGIN:DAYLIGHT
TZOFFSETFROM:+0100
TZOFFSETTO:+0200
TZNAME:CEST
DTSTART:20260329T010000
END:DAYLIGHT
BEGIN:STANDARD
TZOFFSETFROM:+0200
TZOFFSETTO:+0100
TZNAME:CET
DTSTART:20261025T010000
END:STANDARD
END:VTIMEZONE
BEGIN:VEVENT
DTSTART;TZID=Europe/Amsterdam:20260614T140000
DTEND;TZID=Europe/Amsterdam:20260614T170000
DTSTAMP:20260421T012725
CREATED:20260210T104058Z
LAST-MODIFIED:20260303T094839Z
UID:14053-1781445600-1781456400@uitinarnhem.nl
SUMMARY:Zomerproeverij Wijnhandel Appeldoorn - Kasteel Rosendael
DESCRIPTION:Wijnhandel Appeldoorn nodigt je uit voor een sfeervolle middag die draait om wijn keuren en ervaren. Heerlijk proeven\, ontmoeten en genieten. Dat wil je als echte wijnliefhebber toch niet missen? \nOp zondag 14 juni 2026 worden tussen 14.00 en 17.00 uur op het voorterrein van Kasteel Rozendaal wijnen uit uiteenlopende wijngebieden ontkurkt. Diverse wijnboeren en producenten zijn persoonlijk aanwezig en nemen je mee in hun verhalen en signatuurwijnen. Je kunt hen alles vragen en naar hartenlust proeven van hun mooiste selecties. \nOok culinair valt er volop te genieten. De lokale speciaalzaak De Boerenhoeve staat garant voor het allerfijnste op het gebied van kazen. Daarnaast is het voor Velp en omstreken iconische Kruitwagen aanwezig met een stand vol herkenbare hapjes. Om de middag een extra feestelijk karakter te geven\, wordt de wijnproeverij omlijst met passende muziek. Samen maken we er een fantastische middag van! \n
URL:https://uitinarnhem.nl/agenda/zomerproeverij-wijnhuis-appeldoorn-kasteel-rosendael/
LOCATION:Kasteel & Park Rosendael\, Rosendael 1\, Rozendaal\, Gelderland\, 6891 DA
CATEGORIES:Culinair,Markt
ATTACH;FMTTYPE=image/png:https://uitinarnhem.nl/wp-content/uploads/2026/02/Zomerproeverij-foto.png
END:VEVENT
END:VCALENDAR