BEGIN:VCALENDAR
VERSION:2.0
PRODID:-//Uit in Arnhem - ECPv5.0.0.2//NONSGML v1.0//EN
CALSCALE:GREGORIAN
METHOD:PUBLISH
X-WR-CALNAME:Uit in Arnhem
X-ORIGINAL-URL:https://uitinarnhem.nl
X-WR-CALDESC:Events for Uit in Arnhem
BEGIN:VTIMEZONE
TZID:Europe/Amsterdam
BEGIN:DAYLIGHT
TZOFFSETFROM:+0100
TZOFFSETTO:+0200
TZNAME:CEST
DTSTART:20200329T010000
END:DAYLIGHT
BEGIN:STANDARD
TZOFFSETFROM:+0200
TZOFFSETTO:+0100
TZNAME:CET
DTSTART:20201025T010000
END:STANDARD
END:VTIMEZONE
BEGIN:VEVENT
DTSTART;TZID=Europe/Amsterdam:20200711T080000
DTEND;TZID=Europe/Amsterdam:20200828T170000
DTSTAMP:20260421T124548
CREATED:20200715T085455Z
LAST-MODIFIED:20200715T085552Z
UID:5651-1594454400-1598634000@uitinarnhem.nl
SUMMARY:Zomer in Arnhem!
DESCRIPTION:Vier de zomer in Arnhem\, met reisbureau ‘t Grune Hert!  \n(Her)ontdek Arnhem met bijzondere wandelroutes en vier de zomer in eigen stad. Van workshops bij de makers in het Modekwartier tot wildpluk-avonturen in Park Presikhaaf. Deze zomer delen wij een boordevol programma met jou! Op de website van reisbureau ’t Grune Hert vind je een Arnhemse bucketlist en veel tips voor een prachtige zomervakantie in eigen stad.  Er staan verschillende tips om er zelf op uit te trekken\, je vindt een zomeragenda en bijzondere arrangementen & workshops die je kunt boeken. \nBekijk hier de website van reisbureau ‘t Grune Hert: https://tgrunehert.nl/ \n#zomerinarnhem #mooidichtbij #uitinarnhem \n
URL:https://uitinarnhem.nl/agenda/zomer-in-arnhem/
CATEGORIES:Actief,Culinair,Festival,Film,Kindvriendelijk,Koopzondag,Markt,Muziek,Overig,Tentoonstelling,Theater
ATTACH;FMTTYPE=image/jpeg:https://uitinarnhem.nl/wp-content/uploads/2020/07/PBA-AKU-fontein-Arnhem-Uit-in-Arnhem-.jpg
END:VEVENT
END:VCALENDAR