BEGIN:VCALENDAR
VERSION:2.0
PRODID:-//Uit in Arnhem - ECPv5.0.0.2//NONSGML v1.0//EN
CALSCALE:GREGORIAN
METHOD:PUBLISH
X-WR-CALNAME:Uit in Arnhem
X-ORIGINAL-URL:https://uitinarnhem.nl
X-WR-CALDESC:Events for Uit in Arnhem
BEGIN:VTIMEZONE
TZID:Europe/Amsterdam
BEGIN:DAYLIGHT
TZOFFSETFROM:+0100
TZOFFSETTO:+0200
TZNAME:CEST
DTSTART:20200329T010000
END:DAYLIGHT
BEGIN:STANDARD
TZOFFSETFROM:+0200
TZOFFSETTO:+0100
TZNAME:CET
DTSTART:20201025T010000
END:STANDARD
END:VTIMEZONE
BEGIN:VEVENT
DTSTART;TZID=Europe/Amsterdam:20200712T120000
DTEND;TZID=Europe/Amsterdam:20200712T170000
DTSTAMP:20260421T072243
CREATED:20200702T142950Z
LAST-MODIFIED:20200702T143018Z
UID:5561-1594555200-1594573200@uitinarnhem.nl
SUMMARY:World Street Painting - Kids Contest
DESCRIPTION:Dit jaar geen World Street Painting Festival in Arnhem. Na zes festivals en heel veel mooie kunstwerken is 2020 het jaar van bezinning geworden. Toch wordt er kunst op straat gelegd dit jaar. Speciaal voor de kinderen met een Jeugdland Paspoort worden er twee wedstrijddagen georganiseerd waar kinderen tot 12 jaar hun kunsten\, op 1\,5 m afstand van elkaar\, op straat mogen vertonen. Niets is te gek. Laat je fantasie de vrije loopgaan. Heb je geen inspiratie? Dan kunnen de aanwezige striptekenaars je helpen en je wat teken trucs leren. En het leukste is dat alle losse tekeningen aan het eind van de dag één groot kunstwerk vormen. Iedereen tot 12 jaar mag mee doen. Ouders kunnen\, op afstand\, lekker op een bankjes kijken naar de kunst die ontstaat. Aan het eind van de middag\, om 17.00 u\, is de prijsuitreiking. Maar natuurlijk geldt: meedoen is belangrijker dan winnen! \nMeedoen is helemaal gratis. Het is verplicht je aan te melden via https://worldstreetpainting.nl/meedoen-2-2/ \n
URL:https://uitinarnhem.nl/agenda/world-street-painting-kids-contest/
CATEGORIES:Actief,Festival,Kindvriendelijk
ATTACH;FMTTYPE=image/jpeg:https://uitinarnhem.nl/wp-content/uploads/2020/07/WSP-2020-Street-Painting-contest.jpg
END:VEVENT
END:VCALENDAR