BEGIN:VCALENDAR
VERSION:2.0
PRODID:-//Uit in Arnhem - ECPv5.0.0.2//NONSGML v1.0//EN
CALSCALE:GREGORIAN
METHOD:PUBLISH
X-WR-CALNAME:Uit in Arnhem
X-ORIGINAL-URL:https://uitinarnhem.nl
X-WR-CALDESC:Events for Uit in Arnhem
BEGIN:VTIMEZONE
TZID:Europe/Amsterdam
BEGIN:DAYLIGHT
TZOFFSETFROM:+0100
TZOFFSETTO:+0200
TZNAME:CEST
DTSTART:20250330T010000
END:DAYLIGHT
BEGIN:STANDARD
TZOFFSETFROM:+0200
TZOFFSETTO:+0100
TZNAME:CET
DTSTART:20251026T010000
END:STANDARD
END:VTIMEZONE
BEGIN:VEVENT
DTSTART;TZID=Europe/Amsterdam:20250204T203000
DTEND;TZID=Europe/Amsterdam:20250204T230000
DTSTAMP:20260423T085913
CREATED:20250127T141340Z
LAST-MODIFIED:20250127T143000Z
UID:12353-1738701000-1738710000@uitinarnhem.nl
SUMMARY:WonderYears in Huis van Puck
DESCRIPTION:Stichting Jazz in Arnhem presenteert: WonderYears – The Music Of Stevie Wonder \nStevie Wonder veroorzaakte een muzikale aardbeving toen hij in de zeventiger jaren in relatief korte tijd een aantal legendarische platen uitbracht. Bijna alle composities uit die tijd groeiden uit tot hits en behoren sindsdien tot ons collectieve geheugen. Maar Stevie’s mix van grooves en aanstekelijke melodieën gecombineerd met jazz invloeden is niet alleen geschikt om op feestjes te draaien of keihard in de auto. Veel van zijn stukken blijken ook een perfecte uitnodiging te zijn voor jazz improvisaties. \nJasper Blom\, Sean Fasciani en Felix Schlarmann spelen in een jazzbezetting met sax\, bas en drums uitsluitend composities van Stevie Wonder. Ze brengen met hun programma WonderYears een ode aan een van de meest creatieve songwriters van de twintigste eeuw. \nSean Fasciani en Felix Schlarmann ken je misschien ook wel als de ritmische ruggengraat van superjazz-groep BRUUT!. \nJasper Blom (Geldrop\, 1965) geldt als een van de belangrijkste tenor- en sopraansaxofonisten uit de Nederlandse jazzscene. Hij streeft als componist naar een synthese van jazz\, pop\, klassieke en geïmproviseerde muziek. Blom heeft twee keer de European Jazz Competition Award gewonnen en wereldwijd gespeeld op de belangrijke jazzfestivals en in clubs door heel Europa en de Verenigde Staten. \nLive-bezetting:\nJasper Blom – saxofoon\nSean Fasciani – contrabas\nFelix Schlarmann – drums \nKijk voor meer informatie en tickets op: https://jazzinarnhem.nl/concerten/wonderyears/?occurrence=2025-02-04 \n
URL:https://uitinarnhem.nl/agenda/wonderyears-in-huis-van-puck/
LOCATION:Huis van Puck\, Kazerneplein 6-2\, Arnhem\, Nederland\, 6822ET\, Nederland
CATEGORIES:Muziek
ATTACH;FMTTYPE=image/jpeg:https://uitinarnhem.nl/wp-content/uploads/2025/01/WonderYears-small-res-Anne-Reinke.jpg
END:VEVENT
END:VCALENDAR