BEGIN:VCALENDAR
VERSION:2.0
PRODID:-//Uit in Arnhem - ECPv5.0.0.2//NONSGML v1.0//EN
CALSCALE:GREGORIAN
METHOD:PUBLISH
X-WR-CALNAME:Uit in Arnhem
X-ORIGINAL-URL:https://uitinarnhem.nl
X-WR-CALDESC:Events for Uit in Arnhem
BEGIN:VTIMEZONE
TZID:Europe/Amsterdam
BEGIN:DAYLIGHT
TZOFFSETFROM:+0100
TZOFFSETTO:+0200
TZNAME:CEST
DTSTART:20250330T010000
END:DAYLIGHT
BEGIN:STANDARD
TZOFFSETFROM:+0200
TZOFFSETTO:+0100
TZNAME:CET
DTSTART:20251026T010000
END:STANDARD
END:VTIMEZONE
BEGIN:VEVENT
DTSTART;TZID=Europe/Amsterdam:20250508T180000
DTEND;TZID=Europe/Amsterdam:20250508T223000
DTSTAMP:20260421T040910
CREATED:20250428T112342Z
LAST-MODIFIED:20250428T112342Z
UID:13179-1746727200-1746743400@uitinarnhem.nl
SUMMARY:Wijn & Spijs Avond bij Down to Earth in Velp
DESCRIPTION:Op donderdag 8 mei organiseert restaurant Down to Earth in samenwerking met Wijnkoperij Meijrink een wijn-spijs avond. \nEen volledig verzorgd diner\, geheel volgens het concept van Down to Earth Dining; een vegetarische fine-dining belevenis. De avond is een bijzondere kans om je te laten verrassen door de unieke gerechten van Down to Earth en te leren hoe je gerechten zonder vlees en vis\, kunt combineren met de meest bijzondere wijnen. \nHet assortiment aan bijpassende dranken zal door Peter Meijrink van Wijnkoperij Meijrink worden voorzien. Deze wijn & spijs avond staat tevens in het teken van de lente! \nDe kosten: € 99\,- per persoon. \nWat zit inbegrepen;\n\nBrood + Bubbel\nVoorgerecht 1 + Bijpassende Wijn\nVoorgerecht 2 + Bijpassende Wijn\nTussengerecht + Bijpassende Wijnen\nTussengerecht 2 + Bijpassende Wijn\nHoofdgerecht + Bijpassende Wijn\nDessert + Dessertwijn\nKoffie of Thee + Friandises\n\nWil jij aansluiten? Check dan direct of er nog plekjes zijn en meld je aan. Hier vind je de link naar de tickets op de website van Down to Earth Dining. \n
URL:https://uitinarnhem.nl/agenda/wijn-spijs-avond-bij-down-to-earth-in-velp/
LOCATION:Down to Earth Dining\, Wilhelminastraat 30\, Velp\, 6881 LJ
CATEGORIES:Culinair
ATTACH;FMTTYPE=image/jpeg:https://uitinarnhem.nl/wp-content/uploads/2025/04/dessert-2.jpeg
END:VEVENT
END:VCALENDAR