BEGIN:VCALENDAR
VERSION:2.0
PRODID:-//Uit in Arnhem - ECPv5.0.0.2//NONSGML v1.0//EN
CALSCALE:GREGORIAN
METHOD:PUBLISH
X-WR-CALNAME:Uit in Arnhem
X-ORIGINAL-URL:https://uitinarnhem.nl
X-WR-CALDESC:Events for Uit in Arnhem
BEGIN:VTIMEZONE
TZID:Europe/Amsterdam
BEGIN:DAYLIGHT
TZOFFSETFROM:+0100
TZOFFSETTO:+0200
TZNAME:CEST
DTSTART:20240331T010000
END:DAYLIGHT
BEGIN:STANDARD
TZOFFSETFROM:+0200
TZOFFSETTO:+0100
TZNAME:CET
DTSTART:20241027T010000
END:STANDARD
END:VTIMEZONE
BEGIN:VEVENT
DTSTART;TZID=Europe/Amsterdam:20240727T150000
DTEND;TZID=Europe/Amsterdam:20240811T210000
DTSTAMP:20260423T153341
CREATED:20240715T130159Z
LAST-MODIFIED:20240715T130159Z
UID:9861-1722092400-1723410000@uitinarnhem.nl
SUMMARY:Vijfde editie Zomeravonden in het Nederlands Openluchtmuseum
DESCRIPTION:Fotograaf: Mike Bink \nIn het Nederlands Openluchtmuseum vindt deze zomer de vijfde editie van Zomeravonden plaats\, van zaterdag 27 juli t/m zondag 11 augustus 2024. In de sfeervolle setting van het museumpark kan jong & oud zich tot 21.00 uur vermaken met (live) muziek\, leuke activiteiten voor kinderen\, medewerkers die ambachten presenteren\, rondleidingen en natuurlijk lekker eten & drinken uit alle windstreken bereid & geserveerd vanuit authentieke foodtrucks. Vanzelfsprekend kan in het hele park gewandeld worden\, de prachtige (kruiden)tuinen zijn voor iedereen toegankelijk. Ook de tram rijdt deze Zomeravonden zijn rondjes. Beleef de zomer en ontmoet elkaar in het Openluchtmuseum.  \nActiviteiten\nTijdens de Zomeravonden is er van alles te zien en te doen. Bij de Kruidentuin zijn workshops goudsbloemzalf te volgen\, naast het Zaanse Plein is een Historische Dingen Bingo en op het Picknickplein liggen jeu de boules banen. Goochelaar Janse Heijn betovert het publiek ook deze zomer weer met zijn kunsten\, net als de Bronco Brothers die het publiek op de pleinen ouderwets laten meezingen. Er zijn Wildplukwandelingen waar allerlei interessante en leuke weetjes worden verteld over kruiden en planten. Deze ontdekkingstocht voert dwars door het museum\, je ontdekt de eetbare natuur; welke wilde planten en bloemen zijn eetbaar. De fijnste selectie aan foodtrucks staat ook deze zomer weer op het Picknickplein\, waar ook de mannen en vrouwen van Plaatjes vullen gaatjes de hele avond de beste selectie aan muziek -allemaal op vinyl- laat horen. \nPraktisch\nDe Zomeravonden in het Nederlands Openluchtmuseum vinden plaats van zaterdag 27 juli t/m zondag 11 augustus 2024. Voor de Zomeravonden is een speciaal ticket beschikbaar geldig van 15.00 – 21.00 uur. De tickets geven toegang tot het reguliere park (open tot 17.00 uur) en de Zomeravonden. Bezoekers die al voor 15.00 uur in het museumpark zijn mogen gewoon blijven. Zij hoeven geen apart ticket te kopen. Het museumpark is tijdens deze avonden geopend met een aangepast programma\, daarom zijn niet alle locaties in het museum (volledig) geopend.\nEntreeprijzen: Volwassenen en kinderen vanaf 4 jaar: € 10\,- (exclusief parkeren)\nkinderen t/m 3 jaar: gratis. Gratis entree voor houders van een Museumkaart\, VriendenLoterij VIP-kaart en voor Vrienden van het Nederlands Openluchtmuseum.\nHonden zijn welkom\, mits aangelijnd.\nZomeravond tickets kunnen online worden gekocht of ter plekke aan de kassa. Reserveren is niet verplicht maar wordt op prijs gesteld. \n
URL:https://uitinarnhem.nl/agenda/vijfde-editie-zomeravonden-in-het-nederlands-openluchtmuseum/
LOCATION:Openluchtmuseum\, Hoeferlaan 4\, Arnhem
CATEGORIES:Actief,Festival,Kindvriendelijk,Muziek
ATTACH;FMTTYPE=image/jpeg:https://uitinarnhem.nl/wp-content/uploads/2024/07/uit-in-arnhem.jpg
END:VEVENT
END:VCALENDAR