BEGIN:VCALENDAR
VERSION:2.0
PRODID:-//Uit in Arnhem - ECPv5.0.0.2//NONSGML v1.0//EN
CALSCALE:GREGORIAN
METHOD:PUBLISH
X-WR-CALNAME:Uit in Arnhem
X-ORIGINAL-URL:https://uitinarnhem.nl
X-WR-CALDESC:Events for Uit in Arnhem
BEGIN:VTIMEZONE
TZID:Europe/Amsterdam
BEGIN:DAYLIGHT
TZOFFSETFROM:+0100
TZOFFSETTO:+0200
TZNAME:CEST
DTSTART:20240331T010000
END:DAYLIGHT
BEGIN:STANDARD
TZOFFSETFROM:+0200
TZOFFSETTO:+0100
TZNAME:CET
DTSTART:20241027T010000
END:STANDARD
END:VTIMEZONE
BEGIN:VEVENT
DTSTART;TZID=Europe/Amsterdam:20241202T190000
DTEND;TZID=Europe/Amsterdam:20241202T210000
DTSTAMP:20260421T171123
CREATED:20241126T192429Z
LAST-MODIFIED:20241126T192429Z
UID:11793-1733166000-1733173200@uitinarnhem.nl
SUMMARY:Verre binding filmavond in Focus Filmtheater
DESCRIPTION:Op maandag 2 december is in Focus Filmtheater de eerste filmavond in het kader van het Arnhemse cultuurprogramma Verre binding. Hierin kunnen bewoners van de azc’s en hun Arnhemse stadsgenoten elkaar ontmoeten. Een enthousiaste filmraad met Arnhemmers van hier en ver stelde het programma samen. Dat biedt niet alleen vermaak maar levert ook gesprek op. \nDe avond begint met de vertoning van de Libanese romcom Mahbas (Solitaire) over tolerantie en vergeving. Na afloop reflecteert de filmraad op haar filmkeuze en gaat in gesprek met de zaal. Dit gesprek wordt zowel in het Engels als in het Arabisch gevoerd. Tot slot is er de gelegenheid elkaar in de foyer te ontmoeten onder het genot van Arabische koffie\, thee en zoetigheden. \nLibanese romcom Mahbas\nMahbas (Solitaire) is een Libanese romcom over tolerantie en vergeving. Hoofdpersoon is de Libanese Teraiz die een diepgewortelde haat jegens Syriërs ontwikkelde toen ze haar broer verloor tijdens de Libanees-Syrische oorlog. Het langverwachte bezoek van de aanstaande schoonfamilie van haar dochter zorgt voor veel opwinding. De moeder kan haar vreugde over de verloving van haar dochter niet bedwingen en deelt haar geluk met haar overleden broer via zijn foto’s. Totdat ze ontdekt dat haar gasten uit Syrië komen. \nVerre binding\nArnhem is een gastvrije stad en biedt opvang aan meer dan 3.000 vluchtelingen. De gemeente wil deze groep nieuwe Arnhemmers een goede start en een warm welkom geven door een cultuurprogramma aan te bieden waarin alle Arnhemmers elkaar kunnen ontmoeten. Onder de naam Verre binding maakt Ruimtekoers samen met het COA\, Arnhemse makers en cultuurinstellingen\, sociale organisaties én de bewoners van azc’s een programma waarin ontmoeten\, beleven en activeren centraal staat. \nIedereen is welkom om naar deze bijzondere filmavond te komen! Tickets zijn verkrijgbaar via http://www.focusarnhem.nl. Voor bewoners van de azc’s is de toegang gratis. \n
URL:https://uitinarnhem.nl/agenda/verre-binding-filmavond-in-focus-filmtheater/
LOCATION:Focus Filmtheater\, Audrey Hepburnplein 1\, Arnhem\, 6811 EH\, Nederland
CATEGORIES:Film,Informatief & Verrijking,Overig
ATTACH;FMTTYPE=image/jpeg:https://uitinarnhem.nl/wp-content/uploads/2024/11/MAHBAS-3-scaled-1.jpg
END:VEVENT
END:VCALENDAR