BEGIN:VCALENDAR
VERSION:2.0
PRODID:-//Uit in Arnhem - ECPv5.0.0.2//NONSGML v1.0//EN
CALSCALE:GREGORIAN
METHOD:PUBLISH
X-WR-CALNAME:Uit in Arnhem
X-ORIGINAL-URL:https://uitinarnhem.nl
X-WR-CALDESC:Events for Uit in Arnhem
BEGIN:VTIMEZONE
TZID:Europe/Amsterdam
BEGIN:DAYLIGHT
TZOFFSETFROM:+0100
TZOFFSETTO:+0200
TZNAME:CEST
DTSTART:20250330T010000
END:DAYLIGHT
BEGIN:STANDARD
TZOFFSETFROM:+0200
TZOFFSETTO:+0100
TZNAME:CET
DTSTART:20251026T010000
END:STANDARD
END:VTIMEZONE
BEGIN:VEVENT
DTSTART;TZID=Europe/Amsterdam:20251128T160000
DTEND;TZID=Europe/Amsterdam:20251128T210000
DTSTAMP:20260421T072149
CREATED:20251104T191113Z
LAST-MODIFIED:20251104T191113Z
UID:13777-1764345600-1764363600@uitinarnhem.nl
SUMMARY:Verre binding Cultuurfestival in Rozet
DESCRIPTION:Bewoners van de Arnhemse azc’s nodigen alle Arnhemmers uit voor het derde cultuurfestival dat zij organiseren. Doe je mee? \nKom je schaatsen op het dak van Rozet?\nDe zomer is voorbij en de winter staat klaar. Tijd om elkaar extra vaak op te zoeken en een warm hart onder de riem te steken. \nOp vrijdag 28 november zijn de bovenverdieping én dak van Rozet in Arnhem het toneel voor het gratis Verre binding Cultuurfestival. De hele stad is uitgenodigd om Arnhemmers van hier en ver te ontmoeten tijdens workshops\, voorstellingen\, filmvertoningen\, muziekoptredens én lekker eten en drinken. \nEr is warme chocolademelk\, een schaatsbaan\, en een programma met onder andere Luxor Live\, Go Short en A Beautiful Mess\, in samenwerking met CONNECT Arnhem. \nVrijdag 28 november\nKinderprogramma: 16:00 – 18:00\nAvondprogramma: 18:00 – 21:00\nOp het dak van Rozet\nGratis! \nVoor meer informatie: https://www.verrebinding.nl/agenda/verre-binding-cultuurfestival/ \n
URL:https://uitinarnhem.nl/agenda/verre-binding-cultuurfestival-in-rozet/
LOCATION:Rozet\, Kortestraat 16\, Arnhem\, 6811EP\, Nederland
CATEGORIES:Actief,Festival,Film,Informatief & Verrijking,Kindvriendelijk
ATTACH;FMTTYPE=image/jpeg:https://uitinarnhem.nl/wp-content/uploads/2025/11/Posterfoto-Festival-kleiner-scaled.jpg
END:VEVENT
END:VCALENDAR