BEGIN:VCALENDAR
VERSION:2.0
PRODID:-//Uit in Arnhem - ECPv5.0.0.2//NONSGML v1.0//EN
CALSCALE:GREGORIAN
METHOD:PUBLISH
X-WR-CALNAME:Uit in Arnhem
X-ORIGINAL-URL:https://uitinarnhem.nl
X-WR-CALDESC:Events for Uit in Arnhem
BEGIN:VTIMEZONE
TZID:Europe/Amsterdam
BEGIN:DAYLIGHT
TZOFFSETFROM:+0100
TZOFFSETTO:+0200
TZNAME:CEST
DTSTART:20250330T010000
END:DAYLIGHT
BEGIN:STANDARD
TZOFFSETFROM:+0200
TZOFFSETTO:+0100
TZNAME:CET
DTSTART:20251026T010000
END:STANDARD
END:VTIMEZONE
BEGIN:VEVENT
DTSTART;TZID=Europe/Amsterdam:20250109T200000
DTEND;TZID=Europe/Amsterdam:20250109T220000
DTSTAMP:20260423T084142
CREATED:20241209T152644Z
LAST-MODIFIED:20241209T152644Z
UID:11965-1736452800-1736460000@uitinarnhem.nl
SUMMARY:URLAND in Theater a/d Rijn
DESCRIPTION:URLAND speelt met vuur kunstmatige intelligentie (AI) en vraagt zich af wat het nog betekent om kunstenaar te zijn. Zijn wij eigenlijk nog wel nodig? Grenzen vervagen. AI is overal\, hive mind. They took our jobs! World domination. “Data overload\, iedereen gaat dood.” \nFormerly Known As … art?\nMet gekloonde stemmen en een script gegenereerd door chatGPT gaat URLAND aan de haal met AI. Of gaat AI aan de haal met URLAND? Formerly Known As is een surrealistische\, Blade-Runner-esque meta-voorstelling die de verschuivende betekenis van kunst bevraagt. Het collectief gaat een dialoog aan met AI om gezamenlijk een voorstelling te maken over een performancecollectief dat met AI werkt om gezamenlijk een voorstelling te maken over een performancecollectief dat met AI werkt om gezamenlijk een voorstelling te maken over wat het betekent mens te zijn. Meta dus. \nEen spel tussen schepper en diens schepping. Is dit KUNST(matig) of kan het weg? Als we het verschil niet meer kunnen zien tussen ‘echt’ en artificieel\, wat is dan echt echt? Wat is dan kunst? En daar waar kunstenaarschap uniek was aan de mens\, misschien zelfs wel als dát wat ons onderscheidt van andere dieren\, bootst AI alles moeiteloos na en lijkt zij grenzeloos te kunnen creëren – wat zegt dat dan over mens zijn? \nURLAND omarmt het onbekende\, en has seen things you people wouldn’t even believe. All these moments will be lost\, like tears in rain. Time to die. \nDeze voorstelling is volledig Engels gesproken. Tickets kosten 17 euro maar via Pay What You Can kun je er ook voor kiezen om meer of minder te betalen. \n
URL:https://uitinarnhem.nl/agenda/urland-in-theater-a-d-rijn/
LOCATION:Theater aan de Rijn\, Rijnstraat 42\, Arnhem\, 6811 EX\, Nederland
CATEGORIES:Theater
ATTACH;FMTTYPE=image/jpeg:https://uitinarnhem.nl/wp-content/uploads/2024/12/URLAND_FormerlyKnownAs_doorJulianMaiwald.jpg
END:VEVENT
END:VCALENDAR