BEGIN:VCALENDAR
VERSION:2.0
PRODID:-//Uit in Arnhem - ECPv5.0.0.2//NONSGML v1.0//EN
CALSCALE:GREGORIAN
METHOD:PUBLISH
X-WR-CALNAME:Uit in Arnhem
X-ORIGINAL-URL:https://uitinarnhem.nl
X-WR-CALDESC:Events for Uit in Arnhem
BEGIN:VTIMEZONE
TZID:Europe/Amsterdam
BEGIN:DAYLIGHT
TZOFFSETFROM:+0100
TZOFFSETTO:+0200
TZNAME:CEST
DTSTART:20240331T010000
END:DAYLIGHT
BEGIN:STANDARD
TZOFFSETFROM:+0200
TZOFFSETTO:+0100
TZNAME:CET
DTSTART:20241027T010000
END:STANDARD
END:VTIMEZONE
BEGIN:VEVENT
DTSTART;TZID=Europe/Amsterdam:20240126T200000
DTEND;TZID=Europe/Amsterdam:20240126T220000
DTSTAMP:20260421T053736
CREATED:20240118T142412Z
LAST-MODIFIED:20240118T142508Z
UID:7301-1706299200-1706306400@uitinarnhem.nl
SUMMARY:UITnacht24: Feest bij Focus - kortfilmprogramma op het dak
DESCRIPTION:Focus staat in de avond van vrijdag 26 januari 2024 weer geheel in het teken van de Uitnacht Arnhem! Met een grotendeels gratis (of spotgoedkoop) programma verspreid over het hele pand\, bestaande uit films\, een filmquiz\, college over filmmuziek\, filmsong-singalong\, korte films op het dak\, dansperformances\, een concertfilm waarbij gedanst mag worden\, en meer. Veel meer. \n  \n  \n
URL:https://uitinarnhem.nl/agenda/uitnacht24-feest-kortfilmprogramma-op-het-dak/
LOCATION:Focus Filmtheater\, Audrey Hepburnplein 1\, Arnhem\, 6811 EH\, Nederland
CATEGORIES:Film
ATTACH;FMTTYPE=image/jpeg:https://uitinarnhem.nl/wp-content/uploads/2024/01/FOCUS_ophetdak_ValerieSpanjers_07-2022_websize0026-1440x720-1.jpg
END:VEVENT
END:VCALENDAR