BEGIN:VCALENDAR
VERSION:2.0
PRODID:-//Uit in Arnhem - ECPv5.0.0.2//NONSGML v1.0//EN
CALSCALE:GREGORIAN
METHOD:PUBLISH
X-WR-CALNAME:Uit in Arnhem
X-ORIGINAL-URL:https://uitinarnhem.nl
X-WR-CALDESC:Events for Uit in Arnhem
BEGIN:VTIMEZONE
TZID:Europe/Amsterdam
BEGIN:DAYLIGHT
TZOFFSETFROM:+0100
TZOFFSETTO:+0200
TZNAME:CEST
DTSTART:20240331T010000
END:DAYLIGHT
BEGIN:STANDARD
TZOFFSETFROM:+0200
TZOFFSETTO:+0100
TZNAME:CET
DTSTART:20241027T010000
END:STANDARD
END:VTIMEZONE
BEGIN:VEVENT
DTSTART;TZID=Europe/Amsterdam:20241013T110000
DTEND;TZID=Europe/Amsterdam:20241013T180000
DTSTAMP:20260421T020407
CREATED:20240424T135546Z
LAST-MODIFIED:20241001T153321Z
UID:9165-1728817200-1728842400@uitinarnhem.nl
SUMMARY:Trots Markt in Sonsbeekpark Arnhem
DESCRIPTION:Trots Markt in Sonsbeekpark Arnhem is een markt waar mensen staan die passie hebben voor wat ze aanbieden. Niet strikt Bio of fair-triade maar wel duurzaam en met een eerlijk verhaal. Een zeer breed assortiment van droge worst tot hippe badkleding en van verse honing tot moderne woning inrichting. \nOp Trots koop je niet alleen een stuk kaas maar je beleeft het ook\, de bevlogenheid van de standhouders is de ruggengraat van Trots en daarnaast telt de sfeer en schoonheid van de locatie ook mee. \nGeen versterkte muziek of geschreeuw op de markt\, geen springkussens of draaimolens. Nee\, lekker thematisch knutselen voor de kinderen\, passend bij de tijd van het jaar. Een fijne ontspannen sfeer op bijvoorbeeld een picknickkleed met een heerlijk glas wijn en een lekker hapje. Genieten van al het moois en lekkers wat de standhouders te bieden hebben. \nSinds een groot aantal jaren is Park Sonsbeek te Arnhem dé plek voor een breed gesorteerde high-end markt in een heerlijke omgeving. Samen met een gewaardeerde collega wisselen we deze locatie om de maand af. Zo blijven er twee concepten nauw en duurzaam met elkaar samen werken.\nGeniet van een mooie wandeling en struin langs de mooi aangeklede kraampjes vol bijzonders en lekkers en geniet van Trots Markt in Sonsbeekpark Arnhem. \nKijk in onze agenda voor alle edities. \n
URL:https://uitinarnhem.nl/agenda/trots-markt-sonsbeekpark-arnhem/2024-10-13/
CATEGORIES:Markt
ATTACH;FMTTYPE=image/jpeg:https://uitinarnhem.nl/wp-content/uploads/2024/04/trots-markt-sonsbeek.jpeg
END:VEVENT
END:VCALENDAR