BEGIN:VCALENDAR
VERSION:2.0
PRODID:-//Uit in Arnhem - ECPv5.0.0.2//NONSGML v1.0//EN
CALSCALE:GREGORIAN
METHOD:PUBLISH
X-WR-CALNAME:Uit in Arnhem
X-ORIGINAL-URL:https://uitinarnhem.nl
X-WR-CALDESC:Events for Uit in Arnhem
BEGIN:VTIMEZONE
TZID:Europe/Amsterdam
BEGIN:DAYLIGHT
TZOFFSETFROM:+0100
TZOFFSETTO:+0200
TZNAME:CEST
DTSTART:20240331T010000
END:DAYLIGHT
BEGIN:STANDARD
TZOFFSETFROM:+0200
TZOFFSETTO:+0100
TZNAME:CET
DTSTART:20241027T010000
END:STANDARD
END:VTIMEZONE
BEGIN:VEVENT
DTSTART;TZID=Europe/Amsterdam:20240518T210000
DTEND;TZID=Europe/Amsterdam:20240519T020000
DTSTAMP:20260421T051449
CREATED:20240304T124530Z
LAST-MODIFIED:20240304T124530Z
UID:8141-1716066000-1716084000@uitinarnhem.nl
SUMMARY:The Soulful Sessions X Musis Arnhem
DESCRIPTION:\n\nProgramma/THE SOULFUL SESSIONS X MUSIS ARNHEM\n\n\n\nTHE SOULFUL SESSIONS X MUSIS ARNHEM\nThe Soulful Sessions\nZaterdag 18 mei 2024 – 21:00\n\nOp zaterdag 18 mei komt The Soulful Sessions naar Musis Arnhem! Hiermee ook gelijk het grootste soulfeest van de regio en daarom komen zij niet met 1 band maar zelfs 2 bands richting onze prachtige locatie! \n\n\nThe Soulful Sessions is een dansavond met DJ’s en live optredens. Met de muziek van oude soul legends als James Brown\, Aretha Franklin\, Stevie Wonder\, Jackson 5\, Chaka Khan\, Earth Wind & Fire\, Michael Jackson\, Kool & The Gang en Marvin Gaye\, maar óók the new generation soul artiesten waaronder Anderson Paak\, Leela James\, Jill Scott\, Tom Misch\, Allen Stone en Bruno Mars passeren de revue!\nBij The Soulful Sessions ontdek je de grootste talenten uit de scene. Elke editie nodigt de organisatie gast artiesten uit binnen- en buitenland uit die spelen onder begeleiding van The Soulful Band (volledig met blazers sectie)! Aangevuld met de beste DJs…. \n\n
URL:https://uitinarnhem.nl/agenda/the-soulful-sessions-x-musis-arnhem/
LOCATION:Musis\, Velperbinnensingel 15\, Arnhem\, 6811BP\, Nederland
CATEGORIES:Muziek
ATTACH;FMTTYPE=image/jpeg:https://uitinarnhem.nl/wp-content/uploads/2024/03/banner_2600x1200.jpg
END:VEVENT
END:VCALENDAR