BEGIN:VCALENDAR
VERSION:2.0
PRODID:-//Uit in Arnhem - ECPv5.0.0.2//NONSGML v1.0//EN
CALSCALE:GREGORIAN
METHOD:PUBLISH
X-WR-CALNAME:Uit in Arnhem
X-ORIGINAL-URL:https://uitinarnhem.nl
X-WR-CALDESC:Events for Uit in Arnhem
BEGIN:VTIMEZONE
TZID:Europe/Amsterdam
BEGIN:DAYLIGHT
TZOFFSETFROM:+0100
TZOFFSETTO:+0200
TZNAME:CEST
DTSTART:20230326T010000
END:DAYLIGHT
BEGIN:STANDARD
TZOFFSETFROM:+0200
TZOFFSETTO:+0100
TZNAME:CET
DTSTART:20231029T010000
END:STANDARD
BEGIN:DAYLIGHT
TZOFFSETFROM:+0100
TZOFFSETTO:+0200
TZNAME:CEST
DTSTART:20240331T010000
END:DAYLIGHT
BEGIN:STANDARD
TZOFFSETFROM:+0200
TZOFFSETTO:+0100
TZNAME:CET
DTSTART:20241027T010000
END:STANDARD
END:VTIMEZONE
BEGIN:VEVENT
DTSTART;TZID=Europe/Amsterdam:20231014T100000
DTEND;TZID=Europe/Amsterdam:20240929T170000
DTSTAMP:20260421T040912
CREATED:20240723T184237Z
LAST-MODIFIED:20240923T101231Z
UID:10067-1697277600-1727629200@uitinarnhem.nl
SUMMARY:Tentoonstelling 'Sporen van Arnhem' in Erfgoedcentrum Rozet
DESCRIPTION:Bezoek de tentoonstelling ‘Sporen van Arnhem – Groei\, verandering en nieuwkomers’ van Museum Arnhem in het Erfgoedcentrum in Rozet. Hoe is de stad Arnhem van de prehistorie tot nu gegroeid en veranderd? En wie zijn in de loop der eeuwen nieuwkomers geweest? \nDuik in de belangrijke gebeurtenissen\, die hebben bijgedragen aan de groei van de stad. De reis begint bij de ingang van het Erfgoedcentrum. Wie wonen er nu in de stad en hoeveel mensen zijn dat eigenlijk? Daarna ga je als bezoeker terug in de tijd. Van de eerste prehistorische nederzettingen in de buurt van Arnhem tot de bouw van Malburgen en Presikhaaf. Je komt meer te weten over de stad in de vroege middeleeuwen\, de verplaatsing van de Rijn\, de groei van handel en de opkomst van toerisme. Wie was welkom en wie niet? \nOntdek het verhaal van Arnhem via archeologische vondsten uit het archeologisch depot van de gemeente Arnhem\, foto’s en kaarten uit het Gelders Archief en de erfgoedcollectie van Museum Arnhem. \nHet Erfgoedcentrum bevindt zich op verdieping -1 van Rozet. De tentoonstelling is te bezoeken op maandag van 13.00-18.00 uur\, dinsdag t/m vrijdag van 10.00-18.00 uur\, zaterdag van 10.00-17.00 uur en zondag van 13.00-17.00 uur. \n
URL:https://uitinarnhem.nl/agenda/tentoonstelling-sporen-van-arnhem-in-erfgoedcentrum-rozet/
LOCATION:Rozet\, Kortestraat 16\, Arnhem\, 6811EP\, Nederland
CATEGORIES:Informatief & Verrijking,Tentoonstelling
ATTACH;FMTTYPE=image/jpeg:https://uitinarnhem.nl/wp-content/uploads/2024/07/rozet-gelders-archief-2-1800x1238-1.jpg
END:VEVENT
END:VCALENDAR