BEGIN:VCALENDAR
VERSION:2.0
PRODID:-//Uit in Arnhem - ECPv5.0.0.2//NONSGML v1.0//EN
CALSCALE:GREGORIAN
METHOD:PUBLISH
X-WR-CALNAME:Uit in Arnhem
X-ORIGINAL-URL:https://uitinarnhem.nl
X-WR-CALDESC:Events for Uit in Arnhem
BEGIN:VTIMEZONE
TZID:Europe/Amsterdam
BEGIN:DAYLIGHT
TZOFFSETFROM:+0100
TZOFFSETTO:+0200
TZNAME:CEST
DTSTART:20240331T010000
END:DAYLIGHT
BEGIN:STANDARD
TZOFFSETFROM:+0200
TZOFFSETTO:+0100
TZNAME:CET
DTSTART:20241027T010000
END:STANDARD
END:VTIMEZONE
BEGIN:VEVENT
DTSTART;TZID=Europe/Amsterdam:20240903T090000
DTEND;TZID=Europe/Amsterdam:20241027T170000
DTSTAMP:20260421T141925
CREATED:20240916T083959Z
LAST-MODIFIED:20240916T083959Z
UID:10669-1725354000-1730048400@uitinarnhem.nl
SUMMARY:Tentoonstelling 'Museum Arnhem in oorlogstijd' in de Koepel van het Museum
DESCRIPTION:De tentoonstelling Museum Arnhem in oorlogstijd staat stil bij de gebeurtenissen in en rondom het museum tijdens en na de Slag om Arnhem. Deze expositie is van 3 september tot en met 27 oktober 2024 gratis te bezoeken in De Koepel van het museum. \nTijdens de Slag om Arnhem vond er vanwege de strategische ligging van het museum een hevig gevecht om vrijheid plaats aan de Utrechtseweg. Met de nodige gevolgen voor het museum\, de collectie en de omwonenden. \nIn deze tentoonstelling word je\, op de plek waar het 80 jaar geleden plaatsvond\, meegenomen in wat er speelde in en rondom het museum tijdens en na de Slag om Arnhem. Dit gebeurt met behulp van foto’s\, archeologische vondsten en objecten uit de collectie van het museum. Van de gevechten rondom het museum en de evacuatie na de Slag om Arnhem tot het veiligstellen van de collectie en de wederopbouw van het museum. \nEducatieproject Dorenweerd College\nVanaf 12 oktober kun je in Museum Arnhem in oorlogstijd ook kunstwerken van leerlingen van het Dorenweerd College in Doorwerth ontdekken. Hierin reflecteren zij op wat vrijheid vandaag de dag voor hen betekent. \nPresentatie dagboeken Jan van Straaten in Erfgoedcentrum\nAls dependance van Museum Arnhem in oorlogstijd vind je in het Erfgoedcentrum (Rozet) nog een kleine presentatie van de dagboeken van de Arnhemse Jan van Straaten. Hij moest met zijn familie na de Slag om Arnhem evacueren. \n
URL:https://uitinarnhem.nl/agenda/tentoonstelling-museum-arnhem-in-oorlogstijd-in-de-koepel-van-het-museum/
LOCATION:Museum Arnhem\, Utrechtseweg 87\, Arnhem\, Gelderland\, 6812 AA\, Nederland
CATEGORIES:Informatief & Verrijking,Tentoonstelling
ATTACH;FMTTYPE=image/jpeg:https://uitinarnhem.nl/wp-content/uploads/2024/09/NL-AhGldA_1501-04_15833-scaled.jpg
END:VEVENT
END:VCALENDAR