BEGIN:VCALENDAR
VERSION:2.0
PRODID:-//Uit in Arnhem - ECPv5.0.0.2//NONSGML v1.0//EN
CALSCALE:GREGORIAN
METHOD:PUBLISH
X-WR-CALNAME:Uit in Arnhem
X-ORIGINAL-URL:https://uitinarnhem.nl
X-WR-CALDESC:Events for Uit in Arnhem
BEGIN:VTIMEZONE
TZID:Europe/Amsterdam
BEGIN:DAYLIGHT
TZOFFSETFROM:+0100
TZOFFSETTO:+0200
TZNAME:CEST
DTSTART:20240331T010000
END:DAYLIGHT
BEGIN:STANDARD
TZOFFSETFROM:+0200
TZOFFSETTO:+0100
TZNAME:CET
DTSTART:20241027T010000
END:STANDARD
BEGIN:DAYLIGHT
TZOFFSETFROM:+0100
TZOFFSETTO:+0200
TZNAME:CEST
DTSTART:20250330T010000
END:DAYLIGHT
BEGIN:STANDARD
TZOFFSETFROM:+0200
TZOFFSETTO:+0100
TZNAME:CET
DTSTART:20251026T010000
END:STANDARD
END:VTIMEZONE
BEGIN:VEVENT
DTSTART;TZID=Europe/Amsterdam:20241008T110000
DTEND;TZID=Europe/Amsterdam:20250927T170000
DTSTAMP:20260421T021802
CREATED:20241008T152139Z
LAST-MODIFIED:20241008T152139Z
UID:11079-1728385200-1758992400@uitinarnhem.nl
SUMMARY:Tentoonstelling in Rozet: 'Arnhem\, romantische stad?'
DESCRIPTION:Ontdek in de tentoonstelling Arnhem\, romantische stad? in het Erfgoedcentrum in Rozet hoe de ‘geromantiseerde’ blik op landschappen het Arnhemse landschap in de 19e eeuw veranderde. Maar: was Arnhem wel in alle opzichten een romantische stad? Deze gratis toegankelijke expositie van Museum Arnhem is t/m 27 september 2025 te zien in het Erfgoedcentrum in Rozet. \n  \nArnhem heeft heuvels\, bossen en groene parken en is meerdere keren uitgeroepen tot de ‘groenste stad van Nederland’ en zelfs de ‘groenste stad van Europa’. Toch zag Arnhem er niet altijd zo uit; ooit werd het omgeven door een heidelandschap. \n  \nVanaf de 17e eeuw veranderde dit: rijke Arnhemmers lieten in en rondom Arnhem landgoederen aanleggen met geld uit onder andere de koloniën. In de 19e eeuw voegde men vervolgens op grote schaal paden\, waterpartijen\, bruggetjes\, beelden en bomen toe aan tuinen\, parken en buitenplaatsen\, geïnspireerd door de Engelse landschapstijl die toen erg populair was. De Arnhemse VVV promootte dit landschap ondertussen uitvoerig om toeristen naar de stad te trekken. Achter deze pracht en praal verschool echter ook armoede. De arbeidersklasse woonde in slechte omstandigheden in aparte wijken. Deze werden zorgvuldig afgeschermd voor de rijke Arnhemmers en de toeristen die de stad van geld moesten voorzien. \n  \nAan de hand van schilderijen\, foto’s\, kaarten\, boeken en souvenirs uit die tijd – uit de collecties van het Gelders Archief\, de Gelderland Bibliotheek en Museum Arnhem – maken bezoekers in Arnhem\, romantische stad? kennis met deze beide kanten van Arnhem en kunnen ze zelf beoordelen in hoeverre Arnhem een romantische stad was. \n  \nBezoekersinformatie \nArnhem\, romantische stad? is t/m 27 september 2025 te zien in het Erfgoedcentrum in Rozet (Kortestraat 16\, Arnhem)\, op tien minuutjes lopen van Museum Arnhem. Je vindt het Erfgoedcentrum op verdieping -1 van Rozet. Het Erfgoedcentrum is maandag van 13.00-17.00 uur en dinsdag t/m zaterdag van 11.00-17.00 uur gratis te bezoeken5 \n
URL:https://uitinarnhem.nl/agenda/tentoonstelling-in-rozet-arnhem-romantische-stad/
LOCATION:Rozet\, Kortestraat 16\, Arnhem\, 6811EP\, Nederland
CATEGORIES:Informatief & Verrijking
ATTACH;FMTTYPE=image/jpeg:https://uitinarnhem.nl/wp-content/uploads/2024/10/Duizelsteeg-ca.-1920-Gelders-Archief-1501-04-3040-scaled.jpg
END:VEVENT
END:VCALENDAR