BEGIN:VCALENDAR
VERSION:2.0
PRODID:-//Uit in Arnhem - ECPv5.0.0.2//NONSGML v1.0//EN
CALSCALE:GREGORIAN
METHOD:PUBLISH
X-WR-CALNAME:Uit in Arnhem
X-ORIGINAL-URL:https://uitinarnhem.nl
X-WR-CALDESC:Events for Uit in Arnhem
BEGIN:VTIMEZONE
TZID:Europe/Amsterdam
BEGIN:DAYLIGHT
TZOFFSETFROM:+0100
TZOFFSETTO:+0200
TZNAME:CEST
DTSTART:20250330T010000
END:DAYLIGHT
BEGIN:STANDARD
TZOFFSETFROM:+0200
TZOFFSETTO:+0100
TZNAME:CET
DTSTART:20251026T010000
END:STANDARD
END:VTIMEZONE
BEGIN:VEVENT
DTSTART;TZID=Europe/Amsterdam:20250201T220000
DTEND;TZID=Europe/Amsterdam:20250202T030000
DTSTAMP:20260423T095401
CREATED:20250119T181538Z
LAST-MODIFIED:20250119T181538Z
UID:12291-1738447200-1738465200@uitinarnhem.nl
SUMMARY:Tech Noir Synthwave Night in Willemeen
DESCRIPTION:Tech Noir Synthwave Night: Cheff Solo + DJ Leroy \nIn een wereld waar de toekomst samensmelt met de nostalgie van de jaren ’80\, onthult Willemeen de poorten naar “Tech Noir: Synthwave Night”. Deze avond zul je niet snel vergeten\, met neonverlichte dansvloeren\, Cheff Solo en DJ Leroy draaien de betoverende beats van o.a. Carpenter Brut\, Gunship\, en Kavinski\, en de onmiskenbare sfeer van een tijd die nooit echt verdween. \nTrek je meest retro-futuristische outfit aan en duik op 1 februari het avontuur in—waar de nacht jong is en de muziek tijdloos. Welkom in de wereld van Tech Noir… waar de nacht eeuwig en elektrisch is. \nEntree: 6 euro\nDeur: 8 euro \n
URL:https://uitinarnhem.nl/agenda/tech-noir-synthwave-night-in-willemeen/
LOCATION:Willemeen\, Willemsplein 1\, Arnhem\, 6811 KA\, Nederland
CATEGORIES:Muziek,Overig
ATTACH;FMTTYPE=image/jpeg:https://uitinarnhem.nl/wp-content/uploads/2025/01/20250112201007-7293-700x875-1.jpg
END:VEVENT
END:VCALENDAR