BEGIN:VCALENDAR
VERSION:2.0
PRODID:-//Uit in Arnhem - ECPv5.0.0.2//NONSGML v1.0//EN
CALSCALE:GREGORIAN
METHOD:PUBLISH
X-WR-CALNAME:Uit in Arnhem
X-ORIGINAL-URL:https://uitinarnhem.nl
X-WR-CALDESC:Events for Uit in Arnhem
BEGIN:VTIMEZONE
TZID:Europe/Amsterdam
BEGIN:DAYLIGHT
TZOFFSETFROM:+0100
TZOFFSETTO:+0200
TZNAME:CEST
DTSTART:20240331T010000
END:DAYLIGHT
BEGIN:STANDARD
TZOFFSETFROM:+0200
TZOFFSETTO:+0100
TZNAME:CET
DTSTART:20241027T010000
END:STANDARD
END:VTIMEZONE
BEGIN:VEVENT
DTSTART;TZID=Europe/Amsterdam:20241020T130000
DTEND;TZID=Europe/Amsterdam:20241020T173000
DTSTAMP:20260421T060217
CREATED:20241016T182528Z
LAST-MODIFIED:20241016T182528Z
UID:11155-1729429200-1729445400@uitinarnhem.nl
SUMMARY:Sprookjesconcert Kabaal voor 'n verhaal in Posttheater
DESCRIPTION:Op zondag 20 oktober zijn alle kinderen en hun ouders welkom in het Posttheater bij het muzikale sprookje “Kabaal voor ‘n verhaal”\, in het kader van het Sprookjesfestival. In het land van de chagrijnige koning Magnietus is het vertellen van verhalen verboden. Dat vindt Fabula heel stom\, want zij heeft veel fantasie. Dan krijgt ze voor haar verjaardag een bijzonder cadeau. Lukt het de dappere Fabula om daarmee iets te veranderen in het land? \nDit muzikale sprookje wordt gebracht door Jesse Laport (bekend als Stadsdichter van Arnhem) en het harmonieorkest van muziekvereniging Crescendo Elden-Arnhem\, in een bijzondere samenwerking. Een geïllustreerd sprookjesboek met het verhaal is verkrijgbaar bij de voorstelling. Tussen de eerste en tweede voorstelling is er een ‘instrumententuin’ in de foyer van het Posttheater\, waarin kinderen onder begeleiding van musici kennis kunnen maken met muziekinstrumenten. \nPraktisch\nEr zijn op 20 oktober twee voorstellingen: om 13.00u en om 15.30u. Kaarten zijn verkrijgbaar via de site van het Posttheater: http://www.posttheater.nl. Kaarten vanaf €9\,50 \n
URL:https://uitinarnhem.nl/agenda/sprookjesconcert-kabaal-voor-n-verhaal-in-posttheater/
LOCATION:Posttheater\, Rosendaalsestraat 27\, Arnhem\, 6824 CA\, Nederland
CATEGORIES:Kindvriendelijk,Muziek,Theater
ATTACH;FMTTYPE=image/jpeg:https://uitinarnhem.nl/wp-content/uploads/2024/10/Sprookjesconcert.jpg
END:VEVENT
END:VCALENDAR