BEGIN:VCALENDAR
VERSION:2.0
PRODID:-//Uit in Arnhem - ECPv5.0.0.2//NONSGML v1.0//EN
CALSCALE:GREGORIAN
METHOD:PUBLISH
X-WR-CALNAME:Uit in Arnhem
X-ORIGINAL-URL:https://uitinarnhem.nl
X-WR-CALDESC:Events for Uit in Arnhem
BEGIN:VTIMEZONE
TZID:Europe/Amsterdam
BEGIN:DAYLIGHT
TZOFFSETFROM:+0100
TZOFFSETTO:+0200
TZNAME:CEST
DTSTART:20250330T010000
END:DAYLIGHT
BEGIN:STANDARD
TZOFFSETFROM:+0200
TZOFFSETTO:+0100
TZNAME:CET
DTSTART:20251026T010000
END:STANDARD
END:VTIMEZONE
BEGIN:VEVENT
DTSTART;TZID=Europe/Amsterdam:20250329T130000
DTEND;TZID=Europe/Amsterdam:20250329T180000
DTSTAMP:20260421T064019
CREATED:20250318T182436Z
LAST-MODIFIED:20250318T182436Z
UID:12641-1743253200-1743271200@uitinarnhem.nl
SUMMARY:Springstof Festival in Rembrandt
DESCRIPTION:Op zaterdag 29 maart vindt de allereerste editie van het Springstof Festival plaats in Rembrandt Arnhem. Dit nieuwe festival viert de kracht en creativiteit van vrijetijdskunst met een dynamisch programma vol optredens\, openbare repetities en exposities. Springstof biedt een podium aan bevlogen makers uit de regio en nodigt bezoekers uit om kunst in haar puurste vorm te ervaren. \nEen podium voor talent\nSpringstof Festival is een ode aan de passie en het talent van vrijetijdsmakers. Van muziek en theater tot beeldende kunst en dans – het festival toont een breed scala aan disciplines. Het programma biedt zowel ruimte voor ervaren amateurkunstenaars als voor nieuwkomers die hun eerste stappen in de kunstwereld zetten. Bezoekers kunnen niet alleen genieten van diverse optredens\, maar ook meekijken tijdens openbare repetities en werkprocessen van beoefenaars. Ook is er een informatiemarkt waar aspirant-makers kennis kunnen maken met diverse organisaties. \nKom kijken\, luisteren en meedoen!\nSpringstof Festival is gratis toegankelijk en richt zich op een breed publiek. Of je nu een liefhebber bent van kunst\, zelf actief bezig bent of gewoon nieuwsgierig bent naar wat Arnhem te bieden heeft. Springstof nodigt iedereen uit om te komen kijken\, luisteren en meedoen. \nPraktische informatie\nWat: Springstof Festival – omarm de vrijetijdskunst\nWanneer: Zaterdag 29 maart 2025\nTijd: 13.00 – 18.00 uur\nWaar: Rembrandt Arnhem\nToegang: Gratis \n
URL:https://uitinarnhem.nl/agenda/springstof-festival-in-rembrandt/
LOCATION:Rembrandt Theater\, Velperplein 10\, Arnhem
CATEGORIES:Festival,Muziek,Theater
ATTACH;FMTTYPE=image/jpeg:https://uitinarnhem.nl/wp-content/uploads/2025/03/springstof-festival-beeldmerk-licht-1.jpg
END:VEVENT
END:VCALENDAR