BEGIN:VCALENDAR
VERSION:2.0
PRODID:-//Uit in Arnhem - ECPv5.0.0.2//NONSGML v1.0//EN
CALSCALE:GREGORIAN
METHOD:PUBLISH
X-WR-CALNAME:Uit in Arnhem
X-ORIGINAL-URL:https://uitinarnhem.nl
X-WR-CALDESC:Events for Uit in Arnhem
BEGIN:VTIMEZONE
TZID:Europe/Amsterdam
BEGIN:DAYLIGHT
TZOFFSETFROM:+0100
TZOFFSETTO:+0200
TZNAME:CEST
DTSTART:20240331T010000
END:DAYLIGHT
BEGIN:STANDARD
TZOFFSETFROM:+0200
TZOFFSETTO:+0100
TZNAME:CET
DTSTART:20241027T010000
END:STANDARD
END:VTIMEZONE
BEGIN:VEVENT
DTSTART;TZID=Europe/Amsterdam:20240815T140000
DTEND;TZID=Europe/Amsterdam:20240818T210000
DTSTAMP:20260422T093734
CREATED:20240712T120045Z
LAST-MODIFIED:20240712T120045Z
UID:9853-1723730400-1724014800@uitinarnhem.nl
SUMMARY:Sonsbeek Theater Avenue
DESCRIPTION:De SonsbeekTheaterAvenue bestaat 25 jaar en dat wordt gevierd! De grote finale van het jaarlijkse zomerfestival waar liefhebbers van theater\, muziek\, dans en lekker eten en drinken samenkomen\, vindt plaats van 15 t/m 18 augustus 2024. Het prachtige Sonsbeekpark in Arnhem zal opnieuw een bruisende ontmoetingsplek vol vermaak en plezier voor jong en oud zijn.  \nIn 2024 bestaat de TheaterAvenue 25 jaar en vanaf de 1e editie in 1999 is het een groot succes. 25 jaar jubileum wordt gevierd samen met het jubileum van Sonsbeek Park\, dat in 2024 maar liefst 125 jaar bestaat. \n25 jaar lang al is de SonsbeekTheaterAvenue een geliefd festival dat een breed scala aan artistieke en culturele activiteiten biedt. Ook dit jaar belooft het programma weer een feest van creativiteit en diversiteit te worden. Bezoekers kunnen genieten van een gevarieerd aanbod aan theater- en dansvoorstellingen\, livemuziek\, straattheater\, comedy\, kunstinstallaties en nog veel meer. \nWat het festival zo bijzonder maakt\, is de gezellige en toegankelijke sfeer. De SonsbeekTheaterAvenue is er voor iedereen\, ongeacht leeftijd of achtergrond. Gezinnen kunnen samen plezier beleven aan de kindervoorstellingen en -activiteiten\, terwijl vriendengroepen zullen genieten van de levendige ambiance en het rijke culturele aanbod. Het festival biedt ook diverse culinaire hoogstandjes\, zoals ons Italiaanse restaurant Moltogusto en verrassende en gevarieerde foodtrucks\, waardoor bezoekers zich kunnen laven aan heerlijke gerechten en verfrissende drankjes. \nHet programma biedt ‘The best of 25 jaar’\, daarom zullen we artiesten verwelkomen die al(le) jaren van de partij waren en zullen er tal van circus activiteiten worden vertoond. Uiteraard zijn er ook vele cabaret-\, dans-\, theater-\, en muziekgezelschappen uit Arnhem bij zoals Introdans\, Femke Verneij en Flor de Fango. Soultrain disco laat donderdag\, vrijdag en zaterdag het park dansen! \n  \nSpiegeltent \nOntdek het unieke en veelzijdige programma in de Spiegeltent! Ga uit je dak bij optredens van William Smulders’ Elvis Tribute\, circusvoorstelling MikMak door Circus RangPang\, en internationaal artiest Sven Ratzke. Beleef LUDIQUE!’s show ‘From BERLIN with Love’ en geniet van een betoverend concert van pianist Matteo Myderwyk. Sluit deze laatste TheaterAvenue in stijl af en kom dansen bij Sundaypeople! \n  \nDe SonsbeekTheaterAvenue is een festival dat verbindt\, inspireert en vreugde brengt aan mensen van alle leeftijden. Het is een uitspatting van kunst\, cultuur en gezelligheid\, en een niet te missen evenement deze zomer. \n  \nOpen \nDonderdag\, Vrijdag en zaterdag: 14.00 tot 00:00 uur\nZondag: 12.00 tot 21.00 uur \nCheck de website voor het laatste nieuws: www.theateravenue.nl\nBekijk hier de hele agenda van UIT in Arnhem \n
URL:https://uitinarnhem.nl/agenda/sonsbeek-theater-avenue/
LOCATION:Sonsbeekpark\, Tellegenlaan 3\, Arnhem\, 6814BT
CATEGORIES:Festival
ATTACH;FMTTYPE=image/jpeg:https://uitinarnhem.nl/wp-content/uploads/2024/07/SonsbeekTheaterAvenue_2024_insta.jpg
END:VEVENT
END:VCALENDAR