BEGIN:VCALENDAR
VERSION:2.0
PRODID:-//Uit in Arnhem - ECPv5.0.0.2//NONSGML v1.0//EN
CALSCALE:GREGORIAN
METHOD:PUBLISH
X-WR-CALNAME:Uit in Arnhem
X-ORIGINAL-URL:https://uitinarnhem.nl
X-WR-CALDESC:Events for Uit in Arnhem
BEGIN:VTIMEZONE
TZID:Europe/Amsterdam
BEGIN:DAYLIGHT
TZOFFSETFROM:+0100
TZOFFSETTO:+0200
TZNAME:CEST
DTSTART:20260329T010000
END:DAYLIGHT
BEGIN:STANDARD
TZOFFSETFROM:+0200
TZOFFSETTO:+0100
TZNAME:CET
DTSTART:20261025T010000
END:STANDARD
END:VTIMEZONE
BEGIN:VEVENT
DTSTART;TZID=Europe/Amsterdam:20260103T193000
DTEND;TZID=Europe/Amsterdam:20260103T230000
DTSTAMP:20260421T053105
CREATED:20251214T190645Z
LAST-MODIFIED:20251214T190645Z
UID:13882-1767468600-1767481200@uitinarnhem.nl
SUMMARY:Skin prisoner & Friends in Luxor Live
DESCRIPTION:Skin prisoner is het alter-ego van Jaxxon Alta uit Arnhem die regelmatig te zien en te horen is met zijn (semi-)akoestische indie folk. Voor een tweede maal organiseert hij een mini-festival met lokaal talent in Luxor Live. \nSkin prisoner\nMet slechts een klassieke gitaar houdt Skin prisoner je op het puntje van je stoel met dromerige\, rauwe en fragiele nummers die je indiefolk zou kunnen noemen. Zijn muziek komt live het best tot zijn recht\, waar nummers vaak uitgroeien tot iets compleet nieuws. \nJellephant\nDe uit Arnhem afkomstige Jelle Haagsma brengt onder de naam ‘Jellephant’ al jaren albums uit. In het verleden soms ondergedompeld in dromerige shoegaze\, een andere keer met een nadruk op rammelende garagerock\, de psychedelische jaren ’60 of zelfs kleine akoestische liedjes. Na het opdoeken van zijn band The Phantoms richt hij zich weer op meer akoestisch georiënteerd werk. \nShane Voortman\nShane Voortman biedt zijn luisteraars kleurrijke muzikale werelden om in te duiken. Uit de diepte van zijn intuïtieve muzikale oor\, belangstelling voor literatuur en diepe fascinatie voor de zee\, rollen zijn fluisterzang en gitaarspel als golven aan land. In april 2025 bracht hij zijn eerste EP Het Zout Van De Zee uit. \nNimue\nNimue is ontstaan vanuit een duo genaamd Age of Aquarius. Toen dit tweetal uit elkaar ging besloot Felice Parqui in haar eentje verder te gaan. Nu met een alternatief genre wat raakvlakken heeft met haar band\, MANNERISMS. Nimue schrijft over dromen\, wereld vernieuwing\, persoonlijke ontwikkeling en hoop voor de toekomst. Onderwerpen die haar aan het hart gaan. Begeleid op de Spaanse gitaar\, pure\, bitterzoete en ongetemde muziek. \n
URL:https://uitinarnhem.nl/agenda/skin-prisoner-friends-in-luxor-live/
LOCATION:Luxor Live\, Willemsplein 10\, Arnhem\, 6811KB\, Nederland
CATEGORIES:Festival,Muziek
ATTACH;FMTTYPE=image/jpeg:https://uitinarnhem.nl/wp-content/uploads/2025/12/Luxor-Live_skin-prisoner-friends_web-1920x630-1.jpg
END:VEVENT
END:VCALENDAR