BEGIN:VCALENDAR
VERSION:2.0
PRODID:-//Uit in Arnhem - ECPv5.0.0.2//NONSGML v1.0//EN
CALSCALE:GREGORIAN
METHOD:PUBLISH
X-WR-CALNAME:Uit in Arnhem
X-ORIGINAL-URL:https://uitinarnhem.nl
X-WR-CALDESC:Events for Uit in Arnhem
BEGIN:VTIMEZONE
TZID:Europe/Amsterdam
BEGIN:DAYLIGHT
TZOFFSETFROM:+0100
TZOFFSETTO:+0200
TZNAME:CEST
DTSTART:20250330T010000
END:DAYLIGHT
BEGIN:STANDARD
TZOFFSETFROM:+0200
TZOFFSETTO:+0100
TZNAME:CET
DTSTART:20251026T010000
END:STANDARD
BEGIN:DAYLIGHT
TZOFFSETFROM:+0100
TZOFFSETTO:+0200
TZNAME:CEST
DTSTART:20260329T010000
END:DAYLIGHT
BEGIN:STANDARD
TZOFFSETFROM:+0200
TZOFFSETTO:+0100
TZNAME:CET
DTSTART:20261025T010000
END:STANDARD
END:VTIMEZONE
BEGIN:VEVENT
DTSTART;TZID=Europe/Amsterdam:20251124T140000
DTEND;TZID=Europe/Amsterdam:20260116T180000
DTSTAMP:20260421T123120
CREATED:20251126T135437Z
LAST-MODIFIED:20251126T135438Z
UID:13821-1763992800-1768586400@uitinarnhem.nl
SUMMARY:Schaatsbanen in verschillende Arnhemse wijken
DESCRIPTION:Het is (bijna) winter! Tijd voor boerenkool\, warme chocomelk en … schaatsen! In acht Arnhemse wijken kun je de komende tijd weer schaatsen. Er ligt een schaatsbaan met een programma vol winterpret. Op de kunststof baan kun je heerlijk schaatsen\, ijshockeyen\, dansen\, enzovoort. Deze schaatsbanen zijn mogelijk gemaakt door een bijdrage van Teams Leefomgeving gemeente Arnhem en vele samenwerkingspartners. \nWanneer en waar?\nMa 24 t/m 28 november in Malburgen. Locatie: Jeugdplein de Hobbit.\nMa 1 t/m 5 december in Schuytgraaf. Locatie Sportpark Schuytgraaf (mogelijk dat 5 december vervalt vanwege Sinterklaas).\nMa 8 t/m 12 december in Spijkerkwartier / Statenkwartier. Locatie Playground Thialf.\nMa 15 t/m 19 december in Klarendal. Locatie is Bouwspeelplaats de Leuke Linde. \nNa de kerstvakantie komen de volgende 2 schaatsbanen ;\nMa 5 t/m 9 januari 2026 in De Laar- West. Locatie is achter de Sport- en Ontmoetingscentrum aan de Brabantweg 115.\nMa 12 t/m 16 januari 2026 in Geitenkamp. Locatie is Playground de Rommelkist. \n Programma bij alle wijken is globaal:\nOverdag schaatsen voor kinderen van basisscholen uit de wijk en omgeving tot 14.00 uur.\nVan 14.00-17.00 en van 18.00-20.00 uur voor de hele wijk open uur schaatsen. M.u.v. vrijdag want dan is er van 16.00-18.00 uur een schaatsdisco. Deelname schaatsen kost € 1\,= per dag en hierbij is lenen van schaatsen inbegrepen.\nElke woensdag van 17.00-18.00 uur een uur schaatsen voor kinderen met een handicap. I.s.m. Bijzonder in Arnhem.\nPer wijk is er maatwerk in activiteiten\, vaak i.s.m. wijk- en stedelijke partners. \nKijk voor meer informatie op: https://www.sportinarnhem.nl/schaatsbanen \n
URL:https://uitinarnhem.nl/agenda/schaatsbanen-in-verschillende-arnhemse-wijken/
LOCATION:Arnhem
CATEGORIES:Actief,Kindvriendelijk,Overig,Sport
ATTACH;FMTTYPE=image/jpeg:https://uitinarnhem.nl/wp-content/uploads/2025/11/schaatsend-gezin-shutterstock_2027973914.jpg
END:VEVENT
END:VCALENDAR