BEGIN:VCALENDAR
VERSION:2.0
PRODID:-//Uit in Arnhem - ECPv5.0.0.2//NONSGML v1.0//EN
CALSCALE:GREGORIAN
METHOD:PUBLISH
X-WR-CALNAME:Uit in Arnhem
X-ORIGINAL-URL:https://uitinarnhem.nl
X-WR-CALDESC:Events for Uit in Arnhem
BEGIN:VTIMEZONE
TZID:Europe/Amsterdam
BEGIN:DAYLIGHT
TZOFFSETFROM:+0100
TZOFFSETTO:+0200
TZNAME:CEST
DTSTART:20240331T010000
END:DAYLIGHT
BEGIN:STANDARD
TZOFFSETFROM:+0200
TZOFFSETTO:+0100
TZNAME:CET
DTSTART:20241027T010000
END:STANDARD
END:VTIMEZONE
BEGIN:VEVENT
DTSTART;TZID=Europe/Amsterdam:20240511T110000
DTEND;TZID=Europe/Amsterdam:20240511T123000
DTSTAMP:20260421T033635
CREATED:20240408T102043Z
LAST-MODIFIED:20240408T103245Z
UID:8785-1715425200-1715430600@uitinarnhem.nl
SUMMARY:Rondleiding Modekwartier Arnhem
DESCRIPTION:Heb jij zin om het Modekwartier te ontdekken? Ben je nieuwsgierig naar dé fashion\, art en designwijk van Arnhem en lijkt het je leuk om door een gids langs de mooiste plekjes te worden geleid? Dan is een rondleiding door het modekwartier zeker iets voor jou! \nOver Het Modekwartier\nHet Modekwartier ligt in de Arnhemse wijk Klarendal. Het gebied omvat (delen van) de Hommelseweg\, Klarendalseweg en Sonsbeeksingel. In deze straten bevinden zich circa zestig kleinschalige winkels en ateliers met mode en design. Winkels worden er afgewisseld met gewone woonhuizen. Klarendal is de Jordaan van het oosten: een authentieke volkswijk. \nHet Modekwartier ontstond als onderdeel van de wijkontwikkeling van Klarendal\, doel was de leefbaarheid van deze Vogelaarwijk te verbeteren. Volkshuisvesting Arnhem kocht tientallen panden\, knapte deze op en begon deze te verhuren aan ondernemers op mode- en designgebied. In 2006 gingen de eerste vier modewinkels open. \nInmiddels bestaat het Modekwartier dus al ruim vijftien jaar. Een plek waar cultuur en creativiteit floreren. Er huist een veelheid aan creatieve ondernemers – veelal éénpitters – die voor het overgrote deel hun eigen producten ontwerpen\, maken en verkopen. Een plek waar je handgemaakte kleding\, sieraden\, schoenen en tassen kunt vinden\, en (vintage) design voor in huis. Bijzondere producten met vaak een duurzame inslag. Het Modekwartier is een hotspot waar je terecht kunt om heerlijk te eten\, gezellig iets te drinken of te logeren in het modehotel. \nRondleiding boeken\nWil je kennis maken met deze bijzondere wijk en het Modekwartier? Boek dan hier je rondleiding. Het minimum aantal deelnemers per rondleiding is zes. De rondleiding duurt circa 1\,5 uur \n
URL:https://uitinarnhem.nl/agenda/rondleiding-modekwartier-arnhem/2024-05-11/
LOCATION:Goed Proeven\, Klarendalseweg 536\, Arnhem\, 6822GZ\, Nederland
CATEGORIES:Actief
ATTACH;FMTTYPE=image/jpeg:https://uitinarnhem.nl/wp-content/uploads/2024/04/21_05-Modekwartier-Sfeerbeeld-085-klein.jpg
END:VEVENT
END:VCALENDAR