BEGIN:VCALENDAR
VERSION:2.0
PRODID:-//Uit in Arnhem - ECPv5.0.0.2//NONSGML v1.0//EN
CALSCALE:GREGORIAN
METHOD:PUBLISH
X-WR-CALNAME:Uit in Arnhem
X-ORIGINAL-URL:https://uitinarnhem.nl
X-WR-CALDESC:Events for Uit in Arnhem
BEGIN:VTIMEZONE
TZID:Europe/Amsterdam
BEGIN:DAYLIGHT
TZOFFSETFROM:+0100
TZOFFSETTO:+0200
TZNAME:CEST
DTSTART:20240331T010000
END:DAYLIGHT
BEGIN:STANDARD
TZOFFSETFROM:+0200
TZOFFSETTO:+0100
TZNAME:CET
DTSTART:20241027T010000
END:STANDARD
END:VTIMEZONE
BEGIN:VEVENT
DTSTART;TZID=Europe/Amsterdam:20240520T120000
DTEND;TZID=Europe/Amsterdam:20240520T150000
DTSTAMP:20260421T040943
CREATED:20240423T103312Z
LAST-MODIFIED:20240423T103312Z
UID:9029-1716206400-1716217200@uitinarnhem.nl
SUMMARY:Rondleiding Huis Zypendaal - Arnhem
DESCRIPTION:Ontdek de geschiedenis van Huis Zypendaal \n2e Pinksterdag opent Huis Zypendaal haar poorten voor publiek. Geniet van de sfeervolle vertrekken en ontdek de geschiedenis van deze bijzondere buitenplaats. De interieurdecoratie van het huis is deels nog uit de 18e eeuw. Een voorbeeld is de bijzondere marmeren vloer in de gang\, waarin een kettingmotief is ingelegd. \nDe hoofdverdieping is ingericht met objecten van de oorspronkelijke inboedel. Daaronder is een collectie familieportretten van de familie Brantsen. Ook het legendarische ‘Mannetje van de Zyp’ is te zien\, een beeldje van een jongen met een drinkkan. \nJe bezoekt vandaag het huis met een rondleiding of je kunt op eigen gelegenheid door het huis.\nRondleiding om 12.00 & 15.00 uur\nBezoek op eigen gelegenheid tussen 13.00 & 15.00 uur5 \n
URL:https://uitinarnhem.nl/agenda/rondleiding-huis-zypendaal-arnhem/
LOCATION:Park Zypendaal\, Kruising Parkweg / Zypendaalseweg\, Arnhem\, 6814CL
CATEGORIES:Actief
ATTACH;FMTTYPE=image/jpeg:https://uitinarnhem.nl/wp-content/uploads/2024/04/Huis-Zypendaal-2020-07-23.jpg
END:VEVENT
END:VCALENDAR