BEGIN:VCALENDAR
VERSION:2.0
PRODID:-//Uit in Arnhem - ECPv5.0.0.2//NONSGML v1.0//EN
CALSCALE:GREGORIAN
METHOD:PUBLISH
X-WR-CALNAME:Uit in Arnhem
X-ORIGINAL-URL:https://uitinarnhem.nl
X-WR-CALDESC:Events for Uit in Arnhem
BEGIN:VTIMEZONE
TZID:Europe/Amsterdam
BEGIN:DAYLIGHT
TZOFFSETFROM:+0100
TZOFFSETTO:+0200
TZNAME:CEST
DTSTART:20240331T010000
END:DAYLIGHT
BEGIN:STANDARD
TZOFFSETFROM:+0200
TZOFFSETTO:+0100
TZNAME:CET
DTSTART:20241027T010000
END:STANDARD
END:VTIMEZONE
BEGIN:VEVENT
DTSTART;TZID=Europe/Amsterdam:20240419T200000
DTEND;TZID=Europe/Amsterdam:20240419T223000
DTSTAMP:20260421T045616
CREATED:20240402T113155Z
LAST-MODIFIED:20240402T113155Z
UID:8717-1713556800-1713565800@uitinarnhem.nl
SUMMARY:Pucks Open Podium
DESCRIPTION:Pucks Open Podium in Huis van Puck \nIedere 3e vrijdag van de maand komen muzikanten\, schrijvers\, cabaretiers\, dansers\, theatermakers en andere podiumkunstenaars uit heel Nederland bij elkaar in ons café of theaterzaal tijdens Pucks Open Podium! \nPucks Open Podium wordt altijd samengesteld uit minimaal 6 verschillende acts. De line-up bevat totaal verschillende artiesten; je vindt er zowel de singer-songwriter die voor de allereerste keer zijn allereerste liedje voor zijn allereerste publiek speelt\, als de cabaretier met tientallen jaren aan ervaring. De avond wordt aan elkaar gepraat door vaste presentator Jan Gipman. \n
URL:https://uitinarnhem.nl/agenda/pucks-open-podium/
LOCATION:Huis van Puck\, Kazerneplein 6-2\, Arnhem\, Nederland\, 6822ET\, Nederland
CATEGORIES:Cabaret,Muziek
ATTACH;FMTTYPE=image/jpeg:https://uitinarnhem.nl/wp-content/uploads/2024/04/Pucks-openpodium20232024-2300358049_53653767.jpg
END:VEVENT
END:VCALENDAR