BEGIN:VCALENDAR
VERSION:2.0
PRODID:-//Uit in Arnhem - ECPv5.0.0.2//NONSGML v1.0//EN
CALSCALE:GREGORIAN
METHOD:PUBLISH
X-WR-CALNAME:Uit in Arnhem
X-ORIGINAL-URL:https://uitinarnhem.nl
X-WR-CALDESC:Events for Uit in Arnhem
BEGIN:VTIMEZONE
TZID:Europe/Amsterdam
BEGIN:DAYLIGHT
TZOFFSETFROM:+0100
TZOFFSETTO:+0200
TZNAME:CEST
DTSTART:20240331T010000
END:DAYLIGHT
BEGIN:STANDARD
TZOFFSETFROM:+0200
TZOFFSETTO:+0100
TZNAME:CET
DTSTART:20241027T010000
END:STANDARD
END:VTIMEZONE
BEGIN:VEVENT
DTSTART;TZID=Europe/Amsterdam:20240503T113000
DTEND;TZID=Europe/Amsterdam:20240503T153000
DTSTAMP:20260421T034707
CREATED:20240424T140337Z
LAST-MODIFIED:20240424T140714Z
UID:9169-1714735800-1714750200@uitinarnhem.nl
SUMMARY:Professor Bombastix op Huis Zypendael
DESCRIPTION:Vrijdag 3 mei zal Professor Bombastix de nieuwe voorstelling ‘Professor Bombastix & het Toverdrankpaleis’ spelen op huis Zypendaal. De kinderen kunnen voorafgaand aan de voorstelling een magische speurtocht lopen door park Zypendaal. \nToverdrankpaleis\nAan de rand van de wereld staat een bos. En aan de rand van dat bos staat een paleis. Daar wonen de koning en koningin van het koninkrijk van de vergeten verhalen\, geheime toverspreuken\, van de dieren waarin niemand gelooft en van de sprookjeswijsheden op vier poten. En dan is daar ook nog Professor Bombastix. Altijd bezig om met de kinderen een toverdrank te maken waarmee hij zijn heksenbezem kan laten vliegen. Professor Bombastix kan als geen ander de kinderen meenemen in een kinderrijke wereld van sprookjes\, magie en tovenarij. \nMagische speurtocht\nVoorafgaand aan de voorstelling lopen de kinderen met (groot)ouders of begeleiders\, een speurtocht van ongeveer 45 minuten door park Zypendaal. Hier gaan ze op zoek naar de toverspreuk die de professor nodig heeft. Aansluitend zal de voorstellig van professor Bombastix zijn. \n
URL:https://uitinarnhem.nl/agenda/professor-bombastix-op-huis-zypendael/
LOCATION:Huis Zypendaal\, zijpendaalseweg 44\, Arnhem
CATEGORIES:Kindvriendelijk
ATTACH;FMTTYPE=image/jpeg:https://uitinarnhem.nl/wp-content/uploads/2024/04/Bombastix-1-scaled.jpg
END:VEVENT
END:VCALENDAR