BEGIN:VCALENDAR
VERSION:2.0
PRODID:-//Uit in Arnhem - ECPv5.0.0.2//NONSGML v1.0//EN
CALSCALE:GREGORIAN
METHOD:PUBLISH
X-WR-CALNAME:Uit in Arnhem
X-ORIGINAL-URL:https://uitinarnhem.nl
X-WR-CALDESC:Events for Uit in Arnhem
BEGIN:VTIMEZONE
TZID:Europe/Amsterdam
BEGIN:DAYLIGHT
TZOFFSETFROM:+0100
TZOFFSETTO:+0200
TZNAME:CEST
DTSTART:20250330T010000
END:DAYLIGHT
BEGIN:STANDARD
TZOFFSETFROM:+0200
TZOFFSETTO:+0100
TZNAME:CET
DTSTART:20251026T010000
END:STANDARD
END:VTIMEZONE
BEGIN:VEVENT
DTSTART;TZID=Europe/Amsterdam:20251016T190000
DTEND;TZID=Europe/Amsterdam:20251017T220000
DTSTAMP:20260421T132210
CREATED:20251008T125413Z
LAST-MODIFIED:20251008T125413Z
UID:13721-1760641200-1760738400@uitinarnhem.nl
SUMMARY:Pink Panther Party Introdans in Musis
DESCRIPTION:Groove\, glitter\, good vibes\, welkom in de Pink Panther discotheek! Dé danscollage van huisgezelschap Introdans die je meeneemt naar de beginjaren van de disco.  \nIntrodans neemt je met de swingende nieuwe productie Pink Panther Party XXL mee naar de tolerante discocultuur van de jaren 70. Al meer dan 50 jaar zet Introdans zich in om zoveel mogelijk mensen kennis te laten maken met dans. Met Pink Panther Party brengen ze een dansfeest voor iedereen waarin verschillende dansstijlen en dansers met uiteenlopende achtergronden samenkomen op de dansvloer. \nDe bonte cast van Pink Panther Party bestaat uit ruim 20 dansers\, de klassiek-modern geschoolde dansers van Introdans en performers uit andere (dans)werelden\, jonge én oudere supertalenten. \n“De losse heupen van Introdans houden de geest van de disco springlevend” schreef Trouw eerder. Ook als bezoeker van Pink Panther Party ben je onderdeel van het spektakel: je begint als toeschouwer\, maar eindigt als deelgenoot. Want: iedereen kan dansen is het motto van Introdans! \nDe voorstelling is 4 keer te zien in Musis:\n16 oktober\, 19.00 uur\n16 oktober\, 21.00 uur\n17 oktober\, 19.00 uur\n17 oktober\, 21.00 uur\nhttps://introdans.nl/programma/pink-panther-party-2025/ \n
URL:https://uitinarnhem.nl/agenda/pink-panther-party-introdans-in-musis/
LOCATION:Musis\, Velperbinnensingel 15\, Arnhem\, 6811BP\, Nederland
CATEGORIES:Actief,Muziek,Overig
ATTACH;FMTTYPE=image/jpeg:https://uitinarnhem.nl/wp-content/uploads/2025/10/Pink-Panther-Party_Webheader.jpg
END:VEVENT
END:VCALENDAR