BEGIN:VCALENDAR
VERSION:2.0
PRODID:-//Uit in Arnhem - ECPv5.0.0.2//NONSGML v1.0//EN
CALSCALE:GREGORIAN
METHOD:PUBLISH
X-WR-CALNAME:Uit in Arnhem
X-ORIGINAL-URL:https://uitinarnhem.nl
X-WR-CALDESC:Events for Uit in Arnhem
BEGIN:VTIMEZONE
TZID:Europe/Amsterdam
BEGIN:DAYLIGHT
TZOFFSETFROM:+0100
TZOFFSETTO:+0200
TZNAME:CEST
DTSTART:20200329T010000
END:DAYLIGHT
BEGIN:STANDARD
TZOFFSETFROM:+0200
TZOFFSETTO:+0100
TZNAME:CET
DTSTART:20201025T010000
END:STANDARD
END:VTIMEZONE
BEGIN:VEVENT
DTSTART;TZID=Europe/Amsterdam:20200308T140000
DTEND;TZID=Europe/Amsterdam:20200308T190000
DTSTAMP:20260421T061251
CREATED:20200305T154520Z
LAST-MODIFIED:20200305T154520Z
UID:5313-1583676000-1583694000@uitinarnhem.nl
SUMMARY:PAST PRESENT FUTURE - VROUWENDAG
DESCRIPTION:Zondag 8 maart viert Theater aan de Rijn Internationale Vrouwendag.\nDeze dag staat in het teken van solidariteit en strijdbaarheid van vrouwen in de wereld. De aanleiding voor de eerste Internationale Vrouwendag was een massale staking van vrouwen in de textiel- en kledingindustrie in de Verenigde Staten\, op 8 maart 1908. \nDe Arnhemse vrouwen presenteren op 8 maart PAST\, PRESENT\, FUTURE: we staan stil bij de positie\, emancipatie en vrijheid van vrouwen door de jaren heen. Een rijk programma met muziek\, dans en dialoog. \nOrganisatie:\nInitiatiefnemer Nesrin Cingöz organiseert de Vrouwendag in samenwerking met Theater a.d. Rijn\, Arnhemse Wereldvrouwen\, Wereldvrouwenkoor en Soroptimisten Arnhem. \nPROGRAMMA \n14.00: Zaal open \n14.20: Opening\nWelkomswoord Nesrin Cingöz. \n14.25: Wereldvrouwenkoor (deel 1)\n“Al onze wortels liggen in zoveel verre landen\, nu brengen ze ons samen en wij zingen en bloeien.” Het Wereldvrouwenkoor bestaat uit vrouwen uit 19 landen\, onder leiding van dirigente Monique Verhoeven. Dit jaar hebben ze hun vijfjarig jubileum gevierd. Voor deze Vrouwendag hebben ze een speciaal programma samengesteld: ze nemen ons mee met hun liederen door de wereld heen\, met belangrijke boodschappen uit alle windstreken. \n14.50: Lezing Brigitte Theeuwen\nBrigitte Theeuwen is sinds de jaren tachtig nauw betrokken bij de vrouwenemancipatie in Gelderland. In haar lezing licht Brigitte op hoofdlijnen enkele verworvenheden van vrouwen toe in de loop van de geschiedenis. Ook vertelt ze waar de uitdagingen in de toekomst liggen voor de jongere generatie. \n15.10: Voordracht Nikki Dekker\nSchrijver en radiomaker Nikki Dekker verzorgt een voordracht over het feminisme anno nu. Nikki is o.a. bekend van radiodocumentaire De oppas en ik\, haar podcastreeks Iets doen\, hoe doe je dat? en het chapbook een voorwerp dat nog leeft. \n15.15: Interviews & panel vrouwenemancipatie\nVrouwen van verschillende generaties zijn te gast bij gespreksleider Marlène Melfor (voormalig manager van Vluchtelingenwerk)\, om te spreken over empowerment\, solidariteit en vrouwenemancipatie: hoe ver zijn we? In het panel nemen Brigitte Theeuwen\, Nikki Dekker en Fatima El Mourabit (vakbondsvrouw en voorzitter van Platform Nieuwe Vrijdenkers) plaats. \n15.45: Koffiepauze \n16.00: Arnhemse Meisjes\nDanscollectief Arnhemse Meisjes\, die net de Arnhemse Cultuurprijs 2020 heeft gewonnen\, presenteert een work-in-progress van hun voorstelling Verlaten Vrouwen. Al dansend onderzoeken ze alle uithoeken en verschillende verschijningsvormen van het spectrum van ‘vrouw-zijn’: van kracht tot kwetsbaarheid en weer terug. \n16.25: Wereldvrouwenkoor (deel 2)\nHet koor neemt ons mee naar andere landen en andere verhalen van vrouwen door de geschiedenis heen. \n16.50: Afsluiting\nInteractieve afsluiting door Nesrin Cingöz \n17.00-19.00: Naborrel\nTot slot is er de gelegenheid om elkaar te ontmoeten\, elkaar te versterken en om samen in dialoog te gaan. Bij de borrel zijn er gratis hapjes. \n
URL:https://uitinarnhem.nl/agenda/past-present-future-vrouwendag/
LOCATION:Theater aan de Rijn\, Rijnstraat 42\, Arnhem\, 6811 EX\, Nederland
CATEGORIES:Muziek,Overig,Theater
ATTACH;FMTTYPE=image/png:https://uitinarnhem.nl/wp-content/uploads/2020/03/IMG_1450PNG-LRG-CROP.png
END:VEVENT
END:VCALENDAR