BEGIN:VCALENDAR
VERSION:2.0
PRODID:-//Uit in Arnhem - ECPv5.0.0.2//NONSGML v1.0//EN
CALSCALE:GREGORIAN
METHOD:PUBLISH
X-WR-CALNAME:Uit in Arnhem
X-ORIGINAL-URL:https://uitinarnhem.nl
X-WR-CALDESC:Events for Uit in Arnhem
BEGIN:VTIMEZONE
TZID:Europe/Amsterdam
BEGIN:DAYLIGHT
TZOFFSETFROM:+0100
TZOFFSETTO:+0200
TZNAME:CEST
DTSTART:20240331T010000
END:DAYLIGHT
BEGIN:STANDARD
TZOFFSETFROM:+0200
TZOFFSETTO:+0100
TZNAME:CET
DTSTART:20241027T010000
END:STANDARD
END:VTIMEZONE
BEGIN:VEVENT
DTSTART;VALUE=DATE:20240623
DTEND;VALUE=DATE:20240624
DTSTAMP:20260423T100422
CREATED:20240425T090545Z
LAST-MODIFIED:20240425T090545Z
UID:9317-1719100800-1719187199@uitinarnhem.nl
SUMMARY:NK Wielrennen in Arnhem
DESCRIPTION:Het NK wielrennen elite (mannen en vrouwen) en beloften wordt op zondag 23 juni gereden in en rond Arnhem. Op deze dag kan het publiek de renners op twee omlopen in actie zien. De coureurs zetten na de start op de Markt in Arnhem koers naar een veertien kilometer lang parcours over de Posbank\, met de finale in de omgeving van het Sonsbeekpark in Arnhem. \n \nDag voor fans van de wielersport\nDirecteur-bestuurder Maurice Leeser van de KNWU is enthousiast over de opzet van het Nederlands Kampioenschap op de weg voor 2024. “We kijken uit naar het NK voor profs en beloften in Arnhem\, waar een sportief uitdagend parcours uitgezet kan worden waar veel verschillende renners kans maken het rood-wit-blauw te veroveren. Maar waar op deze dag ook een prachtig wielerfeest kan ontstaan op een centraal gelegen locatie in Nederland. 23 juni 2024 wordt echt een dag voor fans van de wielersport: een dag voor jong en oud waarin we niet alleen kunnen kijken naar een spannende koers\, maar het publiek tijdens de verschillende side-events ook zelf de mogelijkheid krijgt om de wielersport te ervaren.” \nDit nationale kampioenschap vindt plaats in één van de mooiste gebieden van Nederland. Daarom zal uitvoerend organisator Courage Events deze kampioenschappen met respect voor de natuur organiseren en dit NK in nauwe samenwerking met alle betrokken partijen op een zo duurzaam mogelijke wijze vormgeven. \nHoud de site van het NK Wielrennen in de gaten voor de exacte tijden\, routes en overige informatie omtrent het NK Wielrennen in Arnhem. \n  \nKijk voor wat er verder te doen is in Arnhem op onze agenda. \n
URL:https://uitinarnhem.nl/agenda/nk-wielrennen-in-arnhem/
LOCATION:Markt\, Markt\, Arnhem\, Nederland
CATEGORIES:Sport
ATTACH;FMTTYPE=image/jpeg:https://uitinarnhem.nl/wp-content/uploads/2024/04/nk-wielrennen.jpg
END:VEVENT
END:VCALENDAR