BEGIN:VCALENDAR
VERSION:2.0
PRODID:-//Uit in Arnhem - ECPv5.0.0.2//NONSGML v1.0//EN
CALSCALE:GREGORIAN
METHOD:PUBLISH
X-WR-CALNAME:Uit in Arnhem
X-ORIGINAL-URL:https://uitinarnhem.nl
X-WR-CALDESC:Events for Uit in Arnhem
BEGIN:VTIMEZONE
TZID:Europe/Amsterdam
BEGIN:DAYLIGHT
TZOFFSETFROM:+0100
TZOFFSETTO:+0200
TZNAME:CEST
DTSTART:20260329T010000
END:DAYLIGHT
BEGIN:STANDARD
TZOFFSETFROM:+0200
TZOFFSETTO:+0100
TZNAME:CET
DTSTART:20261025T010000
END:STANDARD
END:VTIMEZONE
BEGIN:VEVENT
DTSTART;TZID=Europe/Amsterdam:20260121T103000
DTEND;TZID=Europe/Amsterdam:20260121T113000
DTSTAMP:20260421T040506
CREATED:20260110T144616Z
LAST-MODIFIED:20260110T144616Z
UID:13956-1768991400-1768995000@uitinarnhem.nl
SUMMARY:Nationale Voorleesontbijt 2026 in Rozet
DESCRIPTION:‘Het is stil aan de rand van het Grote Woud. En het is nog heel vroeg in de ochtend. Daar is Kleine Aap.’ Luister je deze ochtend met een hapje mee naar het avontuur van Kleine Aap? \nVergeet je kindje (0 – 6 jaar) niet aan te melden in verband met het ontbijt! Dat kan via https://rozet.nl/agenda/10635/nationale-voorleesontbijt-2026-kleine-aap/\nEr zijn geen kosten aan verbonden. In Rozet Kronenburg en Rozet Presikhaaf vindt ook een Voorleesontbijt plaats. \n
URL:https://uitinarnhem.nl/agenda/nationale-voorleesontbijt-2026-in-rozet/
LOCATION:Rozet\, Kortestraat 16\, Arnhem\, 6811EP\, Nederland
CATEGORIES:Kindvriendelijk,Overig
ATTACH;FMTTYPE=image/png:https://uitinarnhem.nl/wp-content/uploads/2026/01/eus1kQ2zZk4zSUlPWH2CHfgBV6pjemxr5uyL4XQu.png
END:VEVENT
END:VCALENDAR