BEGIN:VCALENDAR
VERSION:2.0
PRODID:-//Uit in Arnhem - ECPv5.0.0.2//NONSGML v1.0//EN
CALSCALE:GREGORIAN
METHOD:PUBLISH
X-WR-CALNAME:Uit in Arnhem
X-ORIGINAL-URL:https://uitinarnhem.nl
X-WR-CALDESC:Events for Uit in Arnhem
BEGIN:VTIMEZONE
TZID:Europe/Amsterdam
BEGIN:DAYLIGHT
TZOFFSETFROM:+0100
TZOFFSETTO:+0200
TZNAME:CEST
DTSTART:20240331T010000
END:DAYLIGHT
BEGIN:STANDARD
TZOFFSETFROM:+0200
TZOFFSETTO:+0100
TZNAME:CET
DTSTART:20241027T010000
END:STANDARD
END:VTIMEZONE
BEGIN:VEVENT
DTSTART;VALUE=DATE:20240511
DTEND;VALUE=DATE:20240512
DTSTAMP:20260421T034108
CREATED:20240508T083053Z
LAST-MODIFIED:20240508T083053Z
UID:9395-1715385600-1715471999@uitinarnhem.nl
SUMMARY:Nationale Molendag - Molen de Kroon
DESCRIPTION:De Nationale Molendag vindt dit jaar plaats op zaterdag 11 en zondag 12 mei. Het grootste molenfeest van Nederland. Een unieke kans om molens te bezoeken en te luisteren naar de verhalen van molenaars. Ook Natuurmonumenten stelt in dit weekend een aantal van haar molens open voor publiek. Een mooie kans om deze draaiende monumenten te bewonderen! \nOok onze eigen Molen de Kroon in Arnhem doet dit jaar weer mee op 11 mei. Kom langs en genieten van deze prachtige molen. \n
URL:https://uitinarnhem.nl/agenda/nationale-molendag-molen-de-kroon/
LOCATION:Molen de Kroon\, Klarendalseweg 82\, Arnhem\, 6822 GC
CATEGORIES:Informatief & Verrijking,Kindvriendelijk,Overig
END:VEVENT
END:VCALENDAR