BEGIN:VCALENDAR
VERSION:2.0
PRODID:-//Uit in Arnhem - ECPv5.0.0.2//NONSGML v1.0//EN
CALSCALE:GREGORIAN
METHOD:PUBLISH
X-WR-CALNAME:Uit in Arnhem
X-ORIGINAL-URL:https://uitinarnhem.nl
X-WR-CALDESC:Events for Uit in Arnhem
BEGIN:VTIMEZONE
TZID:Europe/Amsterdam
BEGIN:DAYLIGHT
TZOFFSETFROM:+0100
TZOFFSETTO:+0200
TZNAME:CEST
DTSTART:20250330T010000
END:DAYLIGHT
BEGIN:STANDARD
TZOFFSETFROM:+0200
TZOFFSETTO:+0100
TZNAME:CET
DTSTART:20251026T010000
END:STANDARD
END:VTIMEZONE
BEGIN:VEVENT
DTSTART;TZID=Europe/Amsterdam:20250606T193000
DTEND;TZID=Europe/Amsterdam:20250615T160000
DTSTAMP:20260421T082520
CREATED:20250517T165801Z
LAST-MODIFIED:20250517T165801Z
UID:13267-1749238200-1750003200@uitinarnhem.nl
SUMMARY:muziektheatervoorstelling Misthaven in de Melkfabriek
DESCRIPTION:Een groep acteurs die rent en klautert door de historische fabriekshal van de Melkfabriek\, een ensemble dat luidkeels meezingt op spannende muziek\, en een verhaal dat je meteen meesleept. Het team van de nieuwe Gelderse muziektheatervoorstelling Misthaven is volop aan het repeteren. \nDe 10 voorstellingen worden van 6 t/m 15 juni gespeeld in de Arnhemse Melkfabriek. Deze nieuwe\, magische familievoorstelling is een creatie van de Arnhemse regisseur en theatermaker Sam Janssen. Centraal in de voorstelling staat de Achterhoekse actrice en theatermaker Jolijn Tuenter\, die de rol van Nadia vertolkt. Zij is dé verhalenverteller van de fictieve stad Cordona. Terwijl Nadia samen met haar vrienden de stad onveilig maakt\, probeert haar grote zus Diana haar te beschermen tegen monsters uit het verleden. Maar de vraag is: is het wel Nadia die bescherming nodig heeft? \nMisthaven neemt het publiek mee naar een wereld waar levensverhalen worden vastgelegd in kronieken\, boekbinders de stad beschermen\, en de grens tussen fantasie en werkelijkheid vervaagt. Een betoverende nieuwe wereld voor jong en oud\, waarin bezoekers zich volledig kunnen onderdompelen. Een echte Arnhemse productie. Koop dus snel je tickets. \nMisthaven is een must-see voor jong en oud (vanaf 8 jaar). Perfect voor families\, koppels maar ook voor groepen vrienden die op zoek zijn naar een gezellige middag of avond uit! \nPraktische informatie\nTickets voor deze magische en unieke muziektheaterproductie zijn te bestellen via de website: https://misthaven.nl/\n€19\,95 voor kinderen tm 16 jaar | €25 standaard plus €2 administratiekosten. \n
URL:https://uitinarnhem.nl/agenda/muziektheatervoorstelling-misthaven-in-de-melkfabriek/
LOCATION:Melkfabriek\, Nieuwe Kade 1\, Arnhem\, 6827 AA\, Nederland
CATEGORIES:Kindvriendelijk,Muziek,Theater
ATTACH;FMTTYPE=image/jpeg:https://uitinarnhem.nl/wp-content/uploads/2025/05/DSC08210-Enhanced-NR.jpg
END:VEVENT
END:VCALENDAR