BEGIN:VCALENDAR
VERSION:2.0
PRODID:-//Uit in Arnhem - ECPv5.0.0.2//NONSGML v1.0//EN
CALSCALE:GREGORIAN
METHOD:PUBLISH
X-WR-CALNAME:Uit in Arnhem
X-ORIGINAL-URL:https://uitinarnhem.nl
X-WR-CALDESC:Events for Uit in Arnhem
BEGIN:VTIMEZONE
TZID:Europe/Amsterdam
BEGIN:DAYLIGHT
TZOFFSETFROM:+0100
TZOFFSETTO:+0200
TZNAME:CEST
DTSTART:20240331T010000
END:DAYLIGHT
BEGIN:STANDARD
TZOFFSETFROM:+0200
TZOFFSETTO:+0100
TZNAME:CET
DTSTART:20241027T010000
END:STANDARD
END:VTIMEZONE
BEGIN:VEVENT
DTSTART;TZID=Europe/Amsterdam:20240429T093000
DTEND;TZID=Europe/Amsterdam:20240502T143000
DTSTAMP:20260421T021757
CREATED:20240304T122612Z
LAST-MODIFIED:20240304T122633Z
UID:8123-1714383000-1714660200@uitinarnhem.nl
SUMMARY:Musis Musicaltour
DESCRIPTION:HEY JIJ! Altijd al willen schitteren in een musical in een echt theater? Dit is je kans! \nKom dansen\, zingen en acteren! In vier dagen studeer je samen met andere kinderen een musical in en straal je op de laatste dag op het podium in Musis. \nIn samenwerking met De Vloer\, School voor Podiumkunsten leren we je op een speelse manier de fijne kneepjes van het musicalvak. Onder begeleiding van de musicaldocent oefen je de musical van A tot Z. Het acteren\, de liedjes\, dansen\, alles komt aan bod en leer je tijdens deze dagen uit je hoofd. Met als resultaat: Een te gekke musical waarin jij schittert voor je eigen publiek! \nLiever in de spotlights achter de schermen als decorbouwer aan de slag? Dat kan ook. Onder leiding van een beeldend docent maak jij samen met het kinderdecorteam de musical compleet!\nEen onvergetelijke ervaring voor ieder kind die nieuwsgierig is naar het spelen in een musical of naar de wereld van theaterdecors! \nErvaring met acteren\, zingen\, dansen\, bouwen is niet nodig.\nVoor kinderen tussen de 7 en 12 jaar. \nBelangrijk om te weten: \n\nDe Musical4daagse is van maandag 29 april t/m 2 mei 2024\nHet is elke dag van 09:30 tot 14:30 uur. Inloop vanaf 9.00 uur.\nHet is voor kinderen van 7 t/m 12 jaar\nDe lunch is inbegrepen voor de deelnemers tijdens de vierdaagse\nOp donderdag 2 mei tussen 13.30 uur en 14.30 uur wordt de musical uitgevoerd in de Muzenzaal in Musis (de musical duurt een klein half uurtje)\nVoorafgaand worden de liedjes gemaild zodat deze alvast thuis geoefend kunnen worden\nElke deelnemer ontvangt vier vrijkaartjes voor de uitvoering\nJe gaat 4 dagen zingen\, dansen en acteren of je kiest voor decorbouwen\nDe totale kosten voor deze vierdaagse zijn € 155\,-\nTotale kosten Gelrepashouders € 10\,-\nDeelname alleen mogelijk voor alle 4 dagen\nBij voldoende aanmeldingen wordt de groep op leeftijdscategorie in tweeën gesplitst. Groep 1 kinderen 7 t/m 9 jaar. Groep 2 10 t/m 12 jaar\nKinderen met vakantiepaspoort ontvangen 20% korting op de normale prijs\n\nMeedoen? \nTickets koop je op de website van Musis Stadstheater2 \n
URL:https://uitinarnhem.nl/agenda/musis-musicaltour/
CATEGORIES:Kindvriendelijk,Theater
ATTACH;FMTTYPE=image/png:https://uitinarnhem.nl/wp-content/uploads/2024/03/web_nieuwsblokje_.png
END:VEVENT
END:VCALENDAR