BEGIN:VCALENDAR
VERSION:2.0
PRODID:-//Uit in Arnhem - ECPv5.0.0.2//NONSGML v1.0//EN
CALSCALE:GREGORIAN
METHOD:PUBLISH
X-WR-CALNAME:Uit in Arnhem
X-ORIGINAL-URL:https://uitinarnhem.nl
X-WR-CALDESC:Events for Uit in Arnhem
BEGIN:VTIMEZONE
TZID:Europe/Amsterdam
BEGIN:DAYLIGHT
TZOFFSETFROM:+0100
TZOFFSETTO:+0200
TZNAME:CEST
DTSTART:20240331T010000
END:DAYLIGHT
BEGIN:STANDARD
TZOFFSETFROM:+0200
TZOFFSETTO:+0100
TZNAME:CET
DTSTART:20241027T010000
END:STANDARD
END:VTIMEZONE
BEGIN:VEVENT
DTSTART;TZID=Europe/Amsterdam:20240517T120000
DTEND;TZID=Europe/Amsterdam:20240520T000000
DTSTAMP:20260421T034125
CREATED:20240312T101112Z
LAST-MODIFIED:20240313T122123Z
UID:8267-1715947200-1716163200@uitinarnhem.nl
SUMMARY:Mout Bierfestival Arnhem in Sonsbeekpark
DESCRIPTION:Mout Bierfestival keert terug in het Sonsbeekpark \nVan 17 tot en met 20 mei strijkt Mout Bierfestival weer neer in Arnhem. Het Sonsbeekpark maakt zich op voor een weekend vol speciaalbier\, muziek\, eten\, spellen en arcadegames.  \nOok dit jaar trekt de karavaan van het bierfestival door het land\, waarbij Arnhem op het programma staat van 17 tot en met 20 mei. In het Sonsbeekpark verwelkomt de organisatie nationale en internationale brouwers. Zij krijgen ieder een eigen plek op het terrein waar bezoekers hun bieren kunnen proeven. Daarnaast kunnen er talloze andere (speciaal)bieren gehaald worden bij de Blikkenwinkel\, waar bezoekers gewapend met een mandje hun eigen bierpakket kunnen samenstellen. \nOnder het mom van Samen proef je op Mout\, wordt er vooral ingezet op de totale beleving. ‘Er is voor ieder wat wils. Naast allerlei verschillende bieren is er ook voldoende te kiezen op het gebied van wijn\, cocktails en fris\,’ schetst oprichter Diede van Overbeek. ‘Ook variëren we in muziek. De hele dag geniet je van een tijdloze vinylcollectie vanuit de Platenbus en daarnaast programmeren we ‘s avonds dj’s zodat je kan kiezen waar je dansend de dag afsluit.’ \nIn 2023 voegde de organisatie\, naast gezelschapsspellen\, arcadegames zoals racespelletjes en air-hockey aan het terrein toe. ‘Bezoekers bleken het geweldig te vinden om onder het genot van een drankje hun vrienden uit te dagen\, dus ook die keren weer terug. Maar het blijft ook mogelijk een wat rustiger bord- of kaartspel te spelen.’ \nEr is ten opzichte van de voorgaande editie ook het een en ander veranderd. Mout Bierfestival verwelkomt meer foodtrucks. En er wordt een familiedag geïntroduceerd op zondag. Met leuke activiteiten voor kinderen. Zo kunnen papa en mama onbezorgd van hun dagje uit genieten terwijl ook hun kroost zich kostelijk vermaakt.’ \nVoor Mout Bierfestival maakt de organisatie gebruik n verschillende tickettypes. Zo kunnen studenten en senioren tickets met korting aanschaffen en zijn er speciale kaarten voor mensen die pas na 19:00 het festival bezoeken. Tickets voor Mout Bierfestival zijn nu te koop via www.moutbierfestival.nl \n
URL:https://uitinarnhem.nl/agenda/mout-bierfestival-arnhem-in-sonsbeekpark/
LOCATION:Sonsbeekpark\, Tellegenlaan 3\, Arnhem\, 6814BT
CATEGORIES:Festival
ATTACH;FMTTYPE=image/jpeg:https://uitinarnhem.nl/wp-content/uploads/2024/03/Mout-Bierfestival-Arnhem-2023-full-res-70-klein-scaled.jpg
END:VEVENT
END:VCALENDAR