BEGIN:VCALENDAR
VERSION:2.0
PRODID:-//Uit in Arnhem - ECPv5.0.0.2//NONSGML v1.0//EN
CALSCALE:GREGORIAN
METHOD:PUBLISH
X-WR-CALNAME:Uit in Arnhem
X-ORIGINAL-URL:https://uitinarnhem.nl
X-WR-CALDESC:Events for Uit in Arnhem
BEGIN:VTIMEZONE
TZID:Europe/Amsterdam
BEGIN:DAYLIGHT
TZOFFSETFROM:+0100
TZOFFSETTO:+0200
TZNAME:CEST
DTSTART:20250330T010000
END:DAYLIGHT
BEGIN:STANDARD
TZOFFSETFROM:+0200
TZOFFSETTO:+0100
TZNAME:CET
DTSTART:20251026T010000
END:STANDARD
END:VTIMEZONE
BEGIN:VEVENT
DTSTART;TZID=Europe/Amsterdam:20251001T200000
DTEND;TZID=Europe/Amsterdam:20251001T220000
DTSTAMP:20260423T112157
CREATED:20250904T114441Z
LAST-MODIFIED:20250904T114441Z
UID:13623-1759348800-1759356000@uitinarnhem.nl
SUMMARY:MOM van Neveldieren in Musis
DESCRIPTION:MOM van Neveldieren is een muziekvoorstelling over de rollen die wij toebedeeld krijgen in ons leven. Op het werk\, op vakantie\, met familie…het lijken allemaal andere personages\, andere maskers. In MOM wordt dit gegeven tot sprookjesachtige proporties uitvergroot. \nWeten de maskers iets wat wij niet weten? MOM is een muziekvoorstelling met nieuwe muziek en tekst van Spinvis en Saartje Van Camp. Zij nemen voor de gelegenheid acteur en muzikant Hans Dagelet mee op tournee. De drie zijn zichzelf\, elkaar en een ander in een steeds veranderend decor. \nPraktisch\nDit concert heeft alleen zitplaatsen. Ticketverkoop verloopt via Ticketmaster:  https://www.ticketmaster.nl/event/340220330?brand=nl_musis \n
URL:https://uitinarnhem.nl/agenda/mom-van-neveldieren-in-musis/
LOCATION:Musis\, Velperbinnensingel 15\, Arnhem\, 6811BP\, Nederland
CATEGORIES:Muziek,Theater
ATTACH;FMTTYPE=image/jpeg:https://uitinarnhem.nl/wp-content/uploads/2025/09/Spinvis-header-web-2025.jpg
END:VEVENT
END:VCALENDAR