BEGIN:VCALENDAR
VERSION:2.0
PRODID:-//Uit in Arnhem - ECPv5.0.0.2//NONSGML v1.0//EN
CALSCALE:GREGORIAN
METHOD:PUBLISH
X-WR-CALNAME:Uit in Arnhem
X-ORIGINAL-URL:https://uitinarnhem.nl
X-WR-CALDESC:Events for Uit in Arnhem
BEGIN:VTIMEZONE
TZID:Europe/Amsterdam
BEGIN:DAYLIGHT
TZOFFSETFROM:+0100
TZOFFSETTO:+0200
TZNAME:CEST
DTSTART:20240331T010000
END:DAYLIGHT
BEGIN:STANDARD
TZOFFSETFROM:+0200
TZOFFSETTO:+0100
TZNAME:CET
DTSTART:20241027T010000
END:STANDARD
END:VTIMEZONE
BEGIN:VEVENT
DTSTART;TZID=Europe/Amsterdam:20241027T160000
DTEND;TZID=Europe/Amsterdam:20241027T180000
DTSTAMP:20260421T073825
CREATED:20241004T122529Z
LAST-MODIFIED:20241004T122529Z
UID:11017-1730044800-1730052000@uitinarnhem.nl
SUMMARY:Miles Davis Project Orkest in Huis van Puck
DESCRIPTION:Miles Davis Project Orkest in Huis van Puck – met Ruud Breuls\nHet Miles Davis Project Orkest treedt op met gastsolist Ruud Breuls\, een internationaal vermaarde trompettist. Ruud Breuls speelt onder meer in topensembles als de WDR Bigband en het Metropool Orkest. Het orkest staat onder leiding van arrangeur en orkestleider Gerrit Jan Binkhorst. \n\nOver Miles Davis \nMiles Davis heeft\, mede door zijn keuzes voor markante ‘sidemen’\, tijdens meerdere periodes een grote invloed op de jazzmuziek gehad. Die periodes vielen samen met roemruchte\, als mijlpalen beschouwde albums\, die nog steeds vaak worden beluisterd. Bij de productie van Birth of the Cool (1949 en 1950) werkte hij samen met meerdere arrangeurs\, onder wie Gil Evans. Bij Porgy and Bess (1959) zette. Davis de samenwerking met Gil Evans voort. De periode van Kind of Blue (1958)en Milestones (1958)\, met onder meer Bill Evans\, Cannonball Adderley en John Coltrane\, markeerde een nieuwe wijze van improviseren\, die vaak meer op (kerk-)toonreeksen was gebaseerd dan op gebruikelijke akkoordenschema’s. Deze modale manier van improviseren bleef een vast element in Davis’ muziek\, zowel bij zijn beroemde kwartetopnames met Wayne Shorter en Herbie Hancock als tijdens de laatste periode\, waarin hij met bassist Marcus Miller samenwerkte. \n  \nOver het Miles Davis Project Orkest \nHet Miles Davis Project Orkest speelt een repertoire waarin al deze kenmerkende fases in leven en werk van dit jazzicoon aan bod komen. Onder de leiding van Gerrit Jan Binkhorst is gebleken dat de samenstelling van ritmesectie\, zes koperblazers\, zes saxen en zes houtblazers recht doet aan de harmonische rijkdom en de bijzondere klankkleur van Birth of the Cool en de Gil Evans-arrangementen. Dit rijke klankpallet gebruikt dit orkest ook voor het werk uit de andere periodes van Miles Davis. \nDe ritmesectie bestaat uit elektrische bas en contrabas\, drums\, percussie\, toetsen (2 keer) en gitaar. De blazerssecties bevat een kopersectie (2 trompetten\, 2 trombones en tuba)\, een saxofoonsectie (1 sopraan\, 2 alten \, 2 tenoren\, 1 bassax en 2 baritonsaxen) en een houtsectie (1 viool\,2 dwarsfluiten\, 1 altklarinet en 2 basklarinetten). Op basis van historische reconstructies speelt het orkest de composities niet alleen in nieuwe arrangementen maar ook vaak in andere dan de oorsp7onkelijke grooves. \nWil jij er bij zijn? Koop dan hier je tickets. \n
URL:https://uitinarnhem.nl/agenda/miles-davis-project-orkest-in-huis-van-puck/
LOCATION:Huis van Puck\, Kazerneplein 6-2\, Arnhem\, Nederland\, 6822ET\, Nederland
CATEGORIES:Muziek
ATTACH;FMTTYPE=image/jpeg:https://uitinarnhem.nl/wp-content/uploads/2024/10/Ruud-Breuls-002.jpg
END:VEVENT
END:VCALENDAR