BEGIN:VCALENDAR
VERSION:2.0
PRODID:-//Uit in Arnhem - ECPv5.0.0.2//NONSGML v1.0//EN
CALSCALE:GREGORIAN
METHOD:PUBLISH
X-WR-CALNAME:Uit in Arnhem
X-ORIGINAL-URL:https://uitinarnhem.nl
X-WR-CALDESC:Events for Uit in Arnhem
BEGIN:VTIMEZONE
TZID:Europe/Amsterdam
BEGIN:DAYLIGHT
TZOFFSETFROM:+0100
TZOFFSETTO:+0200
TZNAME:CEST
DTSTART:20240331T010000
END:DAYLIGHT
BEGIN:STANDARD
TZOFFSETFROM:+0200
TZOFFSETTO:+0100
TZNAME:CET
DTSTART:20241027T010000
END:STANDARD
END:VTIMEZONE
BEGIN:VEVENT
DTSTART;TZID=Europe/Amsterdam:20240323T130000
DTEND;TZID=Europe/Amsterdam:20240323T160000
DTSTAMP:20260421T022025
CREATED:20240304T132552Z
LAST-MODIFIED:20240304T133330Z
UID:8161-1711198800-1711209600@uitinarnhem.nl
SUMMARY:Michella Kox - De Kakkerlakshow - Posttheater
DESCRIPTION:\nIn deze fantastische en levendige show van 1 uur slaat Michella Kox een andere weg in (zal zij de kindervriend zijn die niemand verwacht). Natuurlijk zal ze samen met haar publiek het liedje ‘Kakkerlak met Nagellak’ zingen\, en ook andere leuke liedjes. \n  \nOp haar eigen wijze zal Michella laten weten dat iedereen mooi is zoals hij is\, vooral in deze tijd. Maar bovenal zal ze er een feestje van maken en alle kinderen een glimlach bezorgen. \nInteractie met het publiek in de zaal zal zeker niet ontbreken. Deze show is bedoeld voor kinderen tot en met 12 jaar. Na afloop van de show zal er voor iedereen een moment zijn om foto’s te maken in de foyer. \n\nwww.youtube.com/user/michellakox\n
URL:https://uitinarnhem.nl/agenda/michella-kox-de-kakkerlakshow-posttheater/
LOCATION:Posttheater\, Rosendaalsestraat 27\, Arnhem\, 6824 CA\, Nederland
CATEGORIES:Kindvriendelijk
ATTACH;FMTTYPE=image/jpeg:https://uitinarnhem.nl/wp-content/uploads/2024/03/download-1.jpg
END:VEVENT
END:VCALENDAR