BEGIN:VCALENDAR
VERSION:2.0
PRODID:-//Uit in Arnhem - ECPv5.0.0.2//NONSGML v1.0//EN
CALSCALE:GREGORIAN
METHOD:PUBLISH
X-WR-CALNAME:Uit in Arnhem
X-ORIGINAL-URL:https://uitinarnhem.nl
X-WR-CALDESC:Events for Uit in Arnhem
BEGIN:VTIMEZONE
TZID:Europe/Amsterdam
BEGIN:DAYLIGHT
TZOFFSETFROM:+0100
TZOFFSETTO:+0200
TZNAME:CEST
DTSTART:20240331T010000
END:DAYLIGHT
BEGIN:STANDARD
TZOFFSETFROM:+0200
TZOFFSETTO:+0100
TZNAME:CET
DTSTART:20241027T010000
END:STANDARD
END:VTIMEZONE
BEGIN:VEVENT
DTSTART;VALUE=DATE:20240525
DTEND;VALUE=DATE:20240526
DTSTAMP:20260421T093522
CREATED:20240425T084359Z
LAST-MODIFIED:20240425T084359Z
UID:9299-1716595200-1716681599@uitinarnhem.nl
SUMMARY:Mega Wandel Marathon
DESCRIPTION:Op zaterdag 25 mei a.s. vindt de Mega Wandel Marathon plaats in Arnhem: het mooiste wandelfeest voor iedereen! Een initiatief van Stichting het Gehandicapte Kind waarbij iedereen kan meewandelen. Deelnemers laten zich sponsoren en halen zo geld op voor projecten voor kinderen met een handicap. Inschrijven is vanaf nu via: www.megawandelmarathon.nl\nDe start- en finishlocatie is op Sportcentrum Papendal. \nHet doel: Elk kind hoort erbij\nEen handicap beperkt een kind niet voor het leven. Buitengesloten worden doet dat wel. Een harde realiteit. Uit onderzoek blijkt dat kinderen met een handicap vijf keer zoveel worden buitengesloten als kinderen zonder handicap. Ook komt naar voren dat de helft van de kinderen met een handicap het gevoel heeft er niet (helemaal) bij te horen (51%). Dat kunnen en moeten we veranderen! \nDe Mega Wandel Marathon is het wandelfeest waar iedereen aan mee kan doen en er 100% bij hoort. Samen wordt zoveel mogelijk geld opgehaald voor kinderen met een handicap\, zodat zij niet worden buitengesloten en mee kunnen doen in de speeltuin\, op school en bij de sportclub. \nWandelfeest voor iedereen\nEr is voor elk wandelniveau een uitdaging. Deelnemers kunnen kiezen uit vier afstanden: 4 km\, 10 km\, 21 km en zelfs 42 km. Uiteraard zijn alle routes toegankelijk voor rolstoel en\nrunningframe. De start- en finishlocatie is bij Sportcentrum Papendal\, Arnhem. Onderweg is er volop entertainment\, zoals muziek en optredens. De dag eindigt met een spetterende slotshow. \n50/50 regeling\nOrganisaties die zich inzetten voor kinderen met een handicap\, zoals toegankelijke speeltuinen\, Framerunning clubs\, Samen naar School-klassen kunnen zich als team aanmelden en gebruik maken van de 50/50 regeling. Dat wil zeggen dat 50% de teamopbrengst direct ten goede komt aan de eigen organisatie. \nOver Stichting het Gehandicapte Kind\nEen samenleving waarin elk kind vriendjes heeft en geen gehandicapt kind alleen hoeft te\nspelen – dat is het ideaal van Stichting het Gehandicapte Kind. De meeste kinderen leren leven met hun beperking. Hun grootste beperking is dat ze niet mee kunnen doen en zich daardoor buitengesloten voelen. Dit kan leiden tot een leven lang eenzaamheid. Een gehandicapt kind zou nooit eenzaam moeten zijn. Niet vandaag\, niet morgen\, nooit. Met steun van donateurs en vrijwilligers helpt Stichting het Gehandicapte Kind om speeltuinen\, sportclubs en scholen toegankelijk te maken. Zodat kinderen met en zonder handicap elkaar ontmoeten\, samen spelen en vrienden maken. Met als doel: geen kind zonder vriendjes. \n  \n  \nKijk voor wat er verder te doen is in Arnhem op onze agenda. \n
URL:https://uitinarnhem.nl/agenda/mega-wandel-marathon/
LOCATION:Papendal\, Papendallaan 3\, Arnhem\, 6816VD
CATEGORIES:Kindvriendelijk,Sport
ATTACH;FMTTYPE=image/jpeg:https://uitinarnhem.nl/wp-content/uploads/2024/04/mega-wandel-marathon-scaled.jpg
END:VEVENT
END:VCALENDAR