BEGIN:VCALENDAR
VERSION:2.0
PRODID:-//Uit in Arnhem - ECPv5.0.0.2//NONSGML v1.0//EN
CALSCALE:GREGORIAN
METHOD:PUBLISH
X-WR-CALNAME:Uit in Arnhem
X-ORIGINAL-URL:https://uitinarnhem.nl
X-WR-CALDESC:Events for Uit in Arnhem
BEGIN:VTIMEZONE
TZID:Europe/Amsterdam
BEGIN:DAYLIGHT
TZOFFSETFROM:+0100
TZOFFSETTO:+0200
TZNAME:CEST
DTSTART:20250330T010000
END:DAYLIGHT
BEGIN:STANDARD
TZOFFSETFROM:+0200
TZOFFSETTO:+0100
TZNAME:CET
DTSTART:20251026T010000
END:STANDARD
END:VTIMEZONE
BEGIN:VEVENT
DTSTART;TZID=Europe/Amsterdam:20251011T140000
DTEND;TZID=Europe/Amsterdam:20251011T230000
DTSTAMP:20260421T121329
CREATED:20250904T120335Z
LAST-MODIFIED:20250904T120335Z
UID:13629-1760191200-1760223600@uitinarnhem.nl
SUMMARY:Matrixx Oktoberfest in Park Lingezegen
DESCRIPTION:Na een geslaagde eerste editie in 2024 komt het Matrixx Oktoberfest in 2025 terug naar Park Lingezegen. Op zaterdag 11 oktober kan je weer genieten van feest\, schlagers\, lekker eten en gezelligheid. \nIn de grote feesttent ga je los op de grootste feesthits van het moment. Van Django Wagner en Immer Hansi tot aan de koning van het feest Snollebollekes. Meer zin in typische Duitse feestmuziek? Stap dan binnen in de Schlagertent! \nKijk voor meer informatie en kaarten op https://matrixxoktoberfest.nl/. \n
URL:https://uitinarnhem.nl/agenda/matrixx-oktoberfest-in-park-lingezegen/
LOCATION:Park Lingezegen\, De Park 10\, Elst\, 6661NW\, Nederland
CATEGORIES:Muziek
ATTACH;FMTTYPE=image/jpeg:https://uitinarnhem.nl/wp-content/uploads/2025/09/20241012_1547_Oktoberfest_BobbiePhotography_020_LR-1024x683-1.jpg
END:VEVENT
END:VCALENDAR