BEGIN:VCALENDAR
VERSION:2.0
PRODID:-//Uit in Arnhem - ECPv5.0.0.2//NONSGML v1.0//EN
CALSCALE:GREGORIAN
METHOD:PUBLISH
X-WR-CALNAME:Uit in Arnhem
X-ORIGINAL-URL:https://uitinarnhem.nl
X-WR-CALDESC:Events for Uit in Arnhem
BEGIN:VTIMEZONE
TZID:Europe/Amsterdam
BEGIN:DAYLIGHT
TZOFFSETFROM:+0100
TZOFFSETTO:+0200
TZNAME:CEST
DTSTART:20240331T010000
END:DAYLIGHT
BEGIN:STANDARD
TZOFFSETFROM:+0200
TZOFFSETTO:+0100
TZNAME:CET
DTSTART:20241027T010000
END:STANDARD
END:VTIMEZONE
BEGIN:VEVENT
DTSTART;TZID=Europe/Amsterdam:20240406T203000
DTEND;TZID=Europe/Amsterdam:20240406T223000
DTSTAMP:20260421T055615
CREATED:20240402T112155Z
LAST-MODIFIED:20240402T112155Z
UID:8711-1712435400-1712442600@uitinarnhem.nl
SUMMARY:Marlon Kicken in Posttheater
DESCRIPTION:Getekend (bijvoeglijk naamwoord) \nUitspraak: ge – te – kend \n  \n1. Door tekenen ontstaan – het getekende portret van Marlon Kicken is de basis van een nieuwe cabaretvoorstelling. \n  \n2. Beschadigd – de door het leven getekende man weet elke keer weer de humor ervan in te zien en het publiek mee te nemen. \n  \n3. Ondertekend – het getekende contract is nu nog 50 jaar geldig met een afkoopsom van 10 euro en 50 cent. \n4. Patroon – deze tijger is prachtig getekend en duidelijk zichtbaar in het licht. De tekening van zijn vacht werkt ook als een goede schutkleur waardoor hij verdwijnt in de omgeving. \n5. Scherpe lijnen – zijn gezicht is getekend door alle emoties die hij verwerkt in deze cabaretshow. Als toeschouwer zullen de lijnen ook iets aangescherpt worden.Was getekend: Marlon Kicken. \n
URL:https://uitinarnhem.nl/agenda/marlon-kicken-in-posttheater/
LOCATION:Posttheater\, Rosendaalsestraat 27\, Arnhem\, 6824 CA\, Nederland
ATTACH;FMTTYPE=image/jpeg:https://uitinarnhem.nl/wp-content/uploads/2024/04/Marlon-Kicken-poster-Getekend.jpeg
END:VEVENT
END:VCALENDAR