BEGIN:VCALENDAR
VERSION:2.0
PRODID:-//Uit in Arnhem - ECPv5.0.0.2//NONSGML v1.0//EN
CALSCALE:GREGORIAN
METHOD:PUBLISH
X-WR-CALNAME:Uit in Arnhem
X-ORIGINAL-URL:https://uitinarnhem.nl
X-WR-CALDESC:Events for Uit in Arnhem
BEGIN:VTIMEZONE
TZID:Europe/Amsterdam
BEGIN:DAYLIGHT
TZOFFSETFROM:+0100
TZOFFSETTO:+0200
TZNAME:CEST
DTSTART:20200329T010000
END:DAYLIGHT
BEGIN:STANDARD
TZOFFSETFROM:+0200
TZOFFSETTO:+0100
TZNAME:CET
DTSTART:20201025T010000
END:STANDARD
END:VTIMEZONE
BEGIN:VEVENT
DTSTART;TZID=Europe/Amsterdam:20200702T170000
DTEND;TZID=Europe/Amsterdam:20200702T183000
DTSTAMP:20260421T034803
CREATED:20200623T151335Z
LAST-MODIFIED:20200623T151335Z
UID:5457-1593709200-1593714600@uitinarnhem.nl
SUMMARY:Marcel van Roosmalen & Jan Dirk van der Burg
DESCRIPTION:Musis Arnhem | Nederland onder het systeemplafond\nKom met ONS genieten van Marcel van Roosmalen & Jan Dirk van der Burg! \n\nIn Nederland onder het systeemplafond brengt Marcel van Roosmalen samen met Fotograaf des Vaderlands Jan Dirk van der Burg Nederland onder het systeemplafond in beeld. Een systeemplafond is een ophangsysteem dat onder een reeds bestaand plafond wordt gehangen. De ruimte tussen die plafonds is ideaal voor het wegstoppen van elektriciteit\, verwarming\, ventilatie\, riolering\, maar ook voor op de werkvloer minder gewenste zaken als sigaretten of (soft)- drugs. Het systeemplafond is Nederland in een notendop: saai\, efficiënt en handig om dingen in te verbergen. Iedereen zit eronder\, of je dat nou wilt of niet. Het succesvolle boek verscheen een paar weken geleden – speciaal voor Arnhem brengen ze een Best Of Het Systeemplafond naar het theater! \n  \n\n
URL:https://uitinarnhem.nl/agenda/marcel-van-roosmalen-jan-dirk-van-der-burg/2020-07-02/
LOCATION:Musis\, Velperbinnensingel 15\, Arnhem\, 6811BP\, Nederland
CATEGORIES:Theater
ATTACH;FMTTYPE=image/jpeg:https://uitinarnhem.nl/wp-content/uploads/2020/06/marcel__1_-scaled.jpg
END:VEVENT
END:VCALENDAR