BEGIN:VCALENDAR
VERSION:2.0
PRODID:-//Uit in Arnhem - ECPv5.0.0.2//NONSGML v1.0//EN
CALSCALE:GREGORIAN
METHOD:PUBLISH
X-WR-CALNAME:Uit in Arnhem
X-ORIGINAL-URL:https://uitinarnhem.nl
X-WR-CALDESC:Events for Uit in Arnhem
BEGIN:VTIMEZONE
TZID:Europe/Amsterdam
BEGIN:DAYLIGHT
TZOFFSETFROM:+0100
TZOFFSETTO:+0200
TZNAME:CEST
DTSTART:20250330T010000
END:DAYLIGHT
BEGIN:STANDARD
TZOFFSETFROM:+0200
TZOFFSETTO:+0100
TZNAME:CET
DTSTART:20251026T010000
END:STANDARD
END:VTIMEZONE
BEGIN:VEVENT
DTSTART;TZID=Europe/Amsterdam:20250709T130000
DTEND;TZID=Europe/Amsterdam:20250709T170000
DTSTAMP:20260423T100410
CREATED:20250630T131019Z
LAST-MODIFIED:20250630T131019Z
UID:13377-1752066000-1752080400@uitinarnhem.nl
SUMMARY:Luchtkussenfestival op de Markt
DESCRIPTION:Arnhem springt ! Springen\, springen en nog meer springen! \n\nMeer dan 1.000 m2 springplezier met het grootste springkussen van Nederland\nDe Big Air Bag\, waar je kunt kijken naar een spectaculaire BMX stuntshow maar het ook zelf mag proberen!\nHobbyhorse! Spring met je eigen ‘paard’ over de hindernissen.\nBasketbal in diverse varianten\nEn nog veel meer!\n\nDatum: woensdag 9 juli\nTijd: 13.00 – 17.00 uur \nVoor alle leeftijden! Gratis entree. \nVoor meer informatie: https://www.sportinarnhem.nl/activiteiten/arnhem-springt/ \n
URL:https://uitinarnhem.nl/agenda/luchtkussenfestival-op-de-markt/
LOCATION:Markt\, Markt\, Arnhem\, Nederland
CATEGORIES:Actief,Kindvriendelijk
ATTACH;FMTTYPE=image/jpeg:https://uitinarnhem.nl/wp-content/uploads/2025/06/luchtkussen.jpg
END:VEVENT
END:VCALENDAR