BEGIN:VCALENDAR
VERSION:2.0
PRODID:-//Uit in Arnhem - ECPv5.0.0.2//NONSGML v1.0//EN
CALSCALE:GREGORIAN
METHOD:PUBLISH
X-WR-CALNAME:Uit in Arnhem
X-ORIGINAL-URL:https://uitinarnhem.nl
X-WR-CALDESC:Events for Uit in Arnhem
BEGIN:VTIMEZONE
TZID:Europe/Amsterdam
BEGIN:DAYLIGHT
TZOFFSETFROM:+0100
TZOFFSETTO:+0200
TZNAME:CEST
DTSTART:20250330T010000
END:DAYLIGHT
BEGIN:STANDARD
TZOFFSETFROM:+0200
TZOFFSETTO:+0100
TZNAME:CET
DTSTART:20251026T010000
END:STANDARD
END:VTIMEZONE
BEGIN:VEVENT
DTSTART;TZID=Europe/Amsterdam:20250626T200000
DTEND;TZID=Europe/Amsterdam:20250626T230000
DTSTAMP:20260423T111811
CREATED:20241229T185351Z
LAST-MODIFIED:20241229T185351Z
UID:12159-1750968000-1750978800@uitinarnhem.nl
SUMMARY:Linkin Park naar GelreDome
DESCRIPTION:Op 26 juni komt de rock band Linkin Park naar GelreDome\, Arnhem. Spiritbox verzorgt het voorprogramma. De kaartverkoop is inmiddels gestart. \nNa een spectaculaire terugkeer en recordbrekende mijlpalen kondigt Linkin Park —Mike Shinoda\, Dave “Phoenix” Farrell\, Joe Hahn\, Emily Armstrong en Colin Brittain—het vervolg van hun FROM ZERO wereldtournee aan in 2025 met een nieuwe reeks shows die in januari van start gaat. Deze tour is de viering van hun nieuwe album FROM ZERO. \nHun arenatournee van 2024 werd met enorm enthousiasme ontvangen\, wat leidde tot de toevoeging van nieuwe stadiondata. Fans wereldwijd krijgen nu nog meer kansen om de intense\, energieke shows van Linkin Park te beleven met een uitgebreide tourschema in 2025. \nLINKIN PARK maakte een gigantische comeback met “The Emptiness Machine”. De song kwam meteen op nummer 1 binnen op zowel de Billboard Alternative- als de Mainstream Rock Airplay-hitlijsten. Dat maakt dit hun 13e en 11e nummer 1-hit op deze lijsten. Het nummer debuteerde ook op plek 4 in de UK Singles Chart\, de hoogste notering die ze in hun 24-jarige carrière in het Verenigd Koninkrijk hebben gehaald. \nMeer info over dit concert vind je op: http://mojo.nl/linkinpark \n
URL:https://uitinarnhem.nl/agenda/linkin-park-naar-gelredome/
LOCATION:Gelredome\, Batavierenweg 25\, Arnhem\, Arnhem\, 6841HN
CATEGORIES:Muziek
ATTACH;FMTTYPE=image/jpeg:https://uitinarnhem.nl/wp-content/uploads/2024/12/b6e8d7dabe61ee88aef7afcbfe1392ea84d38cd7-944x448-1.jpg
END:VEVENT
END:VCALENDAR