BEGIN:VCALENDAR
VERSION:2.0
PRODID:-//Uit in Arnhem - ECPv5.0.0.2//NONSGML v1.0//EN
CALSCALE:GREGORIAN
METHOD:PUBLISH
X-WR-CALNAME:Uit in Arnhem
X-ORIGINAL-URL:https://uitinarnhem.nl
X-WR-CALDESC:Events for Uit in Arnhem
BEGIN:VTIMEZONE
TZID:Europe/Amsterdam
BEGIN:DAYLIGHT
TZOFFSETFROM:+0100
TZOFFSETTO:+0200
TZNAME:CEST
DTSTART:20240331T010000
END:DAYLIGHT
BEGIN:STANDARD
TZOFFSETFROM:+0200
TZOFFSETTO:+0100
TZNAME:CET
DTSTART:20241027T010000
END:STANDARD
END:VTIMEZONE
BEGIN:VEVENT
DTSTART;TZID=Europe/Amsterdam:20240819T110000
DTEND;TZID=Europe/Amsterdam:20240819T180000
DTSTAMP:20260421T140616
CREATED:20240725T103807Z
LAST-MODIFIED:20240725T103807Z
UID:10073-1724065200-1724090400@uitinarnhem.nl
SUMMARY:Licht door de lens in Koepelgevangenis Arnhem
DESCRIPTION:19 augustus is het Wereld Fotografiedag. Op deze dag kun je de fototentoonstelling Licht door de Lens in de Koepelgevangenis Arnhem bezoeken. Ontdek prachtige beelden en geniet van heerlijke hapjes en drankjes. \nWat kun je verwachten?\nBewonder prachtige fotografische kunstwerken van lokale artiesten.\nVerken de historische Koepelgevangenis in een unieke setting.\nGeniet van heerlijke hapjes en drankjes gedurende het hele evenement.\nNeem deel aan een culturele ervaring ter ere van Wereld Fotografiedag. \nGratis entree; inschrijven is verplicht via https://koepelgevangenisarnhem.nl/zomeragenda/ \n
URL:https://uitinarnhem.nl/agenda/licht-door-de-lens-in-koepelgevangenis-arnhem/
LOCATION:Koepelgevangenis\, Wilhelminastraat 16\, Arnhem\, 6812 CW\, Nederland
CATEGORIES:Tentoonstelling
ATTACH;FMTTYPE=image/png:https://uitinarnhem.nl/wp-content/uploads/2024/07/licht-door-de-lens-3347611925_344356544.png
END:VEVENT
END:VCALENDAR