BEGIN:VCALENDAR
VERSION:2.0
PRODID:-//Uit in Arnhem - ECPv5.0.0.2//NONSGML v1.0//EN
CALSCALE:GREGORIAN
METHOD:PUBLISH
X-WR-CALNAME:Uit in Arnhem
X-ORIGINAL-URL:https://uitinarnhem.nl
X-WR-CALDESC:Events for Uit in Arnhem
BEGIN:VTIMEZONE
TZID:Europe/Amsterdam
BEGIN:DAYLIGHT
TZOFFSETFROM:+0100
TZOFFSETTO:+0200
TZNAME:CEST
DTSTART:20250330T010000
END:DAYLIGHT
BEGIN:STANDARD
TZOFFSETFROM:+0200
TZOFFSETTO:+0100
TZNAME:CET
DTSTART:20251026T010000
END:STANDARD
END:VTIMEZONE
BEGIN:VEVENT
DTSTART;TZID=Europe/Amsterdam:20250520T183000
DTEND;TZID=Europe/Amsterdam:20250524T220000
DTSTAMP:20260421T053731
CREATED:20250512T092342Z
LAST-MODIFIED:20250512T092342Z
UID:13243-1747765800-1748124000@uitinarnhem.nl
SUMMARY:LACUNA KITCHEN op locatie Oude Kraan 72
DESCRIPTION:Lacuna Kitchen is een zintuiglijke theaterervaring in de vorm van een pop-up restaurant\, waarin verhalen achter onze eetcultuur worden verkend. \nDe voorstelling geeft een stem aan keukenwerkers en chefs uit de Europese gastronomie en vertaalt de migratiegeschiedenis naar de gerechten op ons bord. Door middel van koken met bijzondere ingrediënten\, persoonlijke verhalen en gedeelde maaltijden laat Lacuna Kitchen zien hoe voedsel een brug kan vormen tussen culturen – en tussen heden en verleden. De voorstelling gaat op 23 mei in première in Arnhem op locatie Oude Kraan 72\, gehost door Theater a/d Rijn. \nHet project is een initiatief van theatermaker Abhishek Thapar\, in samenwerking met het Lacuna Kitchen collectief en Afra Tafri Creations. Tijdens een residentie in het Arnhems Stadsatelier onderzocht het team hoe migratie en kolonialisme de lokale eetcultuur in Arnhem hebben gevormd. Eten verbindt\, maar wat als het ook een spiegel is van ongelijkheid en vergeten verhalen? \nSpeellijst\nDi 20 mei try-out 18:30 Arnhem\, Oude Kraan 72\nWo 21 mei try-out 18:30 Arnhem\, Oude Kraan 72\nDo 22 mei try-out 18:30 Arnhem\, Oude Kraan 72\nVr 23 mei première 15:30 & 19:00 Arnhem\, Oude Kraan 72\nZa 24 mei 19:00 Arnhem\, Oude Kraan 72 \nTickets & info via Theater a/d Rijn: http://theateraanderijn.nl/lacuna-kitchen \n  \n
URL:https://uitinarnhem.nl/agenda/lacuna-kitchen-op-locatie-oude-kraan-72/
LOCATION:Oude Kraan 72\, Oude Kraan 72\, Arnhem\, 6811 LL\, Nederland
CATEGORIES:Culinair,Informatief & Verrijking,Theater
ATTACH;FMTTYPE=image/jpeg:https://uitinarnhem.nl/wp-content/uploads/2025/05/559a87f4-d691-4383-8530-60daa23ccd5c.jpeg
END:VEVENT
END:VCALENDAR