BEGIN:VCALENDAR
VERSION:2.0
PRODID:-//Uit in Arnhem - ECPv5.0.0.2//NONSGML v1.0//EN
CALSCALE:GREGORIAN
METHOD:PUBLISH
X-WR-CALNAME:Uit in Arnhem
X-ORIGINAL-URL:https://uitinarnhem.nl
X-WR-CALDESC:Events for Uit in Arnhem
BEGIN:VTIMEZONE
TZID:Europe/Amsterdam
BEGIN:DAYLIGHT
TZOFFSETFROM:+0100
TZOFFSETTO:+0200
TZNAME:CEST
DTSTART:20240331T010000
END:DAYLIGHT
BEGIN:STANDARD
TZOFFSETFROM:+0200
TZOFFSETTO:+0100
TZNAME:CET
DTSTART:20241027T010000
END:STANDARD
END:VTIMEZONE
BEGIN:VEVENT
DTSTART;TZID=Europe/Amsterdam:20240323T210000
DTEND;TZID=Europe/Amsterdam:20240324T020000
DTSTAMP:20260421T021910
CREATED:20240313T141308Z
LAST-MODIFIED:20240313T141757Z
UID:8335-1711227600-1711245600@uitinarnhem.nl
SUMMARY:Konijn2000 bij Rembrandt theater Arnhem
DESCRIPTION:Na ruim acht jaar maakt Konijn2000 haar comeback! Zo’n twintig jaar was het collectief een onmiskenbare kracht in de Arnhemse uitgaansscene\, met een eclectische mix van elektro\, disco en house. Op zaterdag 23 maart vormt Rembrandt het decor voor deze terugkeer\, waar je in de verschillende zalen kan dwalen tussen nieuwe muziek en ultieme herinneringen. \nLine-up\nHet Amsterdamse dj-duo DiscTwins brengt de avond naar hogere sferen\, lokale helden DJ Syte en Cordo zorgen voor de geliefde mix van HipFunkPopDiscoRockHopHouse en uiteraard is DJ Wilco er ook. De rest van de line-up: TBA! \nKonijn2000\nKonijn2000 is de Original Blender of All Styles in Arnhem en is jaren terug gestart in Willemeen. Ze organiseerden feestjes in een bunker\, bij de scouting\, op industrie terreinen\, in een oude supermarkt\, in leegstaande gebouwen en in Musis; niemand weet zo goed als Konijn2000 hoe je een dik feest moet geven.4 \n
URL:https://uitinarnhem.nl/agenda/konijn2000-bij-rembrandt-theater-arnhem/
LOCATION:Rembrandt Theater\, Velperplein 10\, Arnhem
CATEGORIES:Muziek
ATTACH;FMTTYPE=image/jpeg:https://uitinarnhem.nl/wp-content/uploads/2024/03/Konijn2000.jpeg
END:VEVENT
END:VCALENDAR