BEGIN:VCALENDAR
VERSION:2.0
PRODID:-//Uit in Arnhem - ECPv5.0.0.2//NONSGML v1.0//EN
CALSCALE:GREGORIAN
METHOD:PUBLISH
X-WR-CALNAME:Uit in Arnhem
X-ORIGINAL-URL:https://uitinarnhem.nl
X-WR-CALDESC:Events for Uit in Arnhem
BEGIN:VTIMEZONE
TZID:Europe/Amsterdam
BEGIN:DAYLIGHT
TZOFFSETFROM:+0100
TZOFFSETTO:+0200
TZNAME:CEST
DTSTART:20200329T010000
END:DAYLIGHT
BEGIN:STANDARD
TZOFFSETFROM:+0200
TZOFFSETTO:+0100
TZNAME:CET
DTSTART:20201025T010000
END:STANDARD
END:VTIMEZONE
BEGIN:VEVENT
DTSTART;TZID=Europe/Amsterdam:20200315T150000
DTEND;TZID=Europe/Amsterdam:20200315T160000
DTSTAMP:20260421T033637
CREATED:20200302T122339Z
LAST-MODIFIED:20200310T100725Z
UID:5273-1584284400-1584288000@uitinarnhem.nl
SUMMARY:Klets Kindercabaret in Posttheater Arnhem
DESCRIPTION:Kletskousen is een snelle\, interactieve\, dynamische en muzikale voorstelling vol humor\, leuke liedjes en gekke sketches. In KLETSKOUSEN! komen Freek\, Charlotte en Dookje plotseling terecht in een wereld zonder beeldschermen\, telefoons en social media en dat is in deze tijd nogal een uitdaging. Maar deze drie eigenwijze kletskousen kletsen en zingen zich er wel doorheen. \n  \nDeze voorstelling is leuk voor iedereen van 6 jaar tot en met 99 jaar\, net als Rummikub\, maar bij Rummikub zit je stil en hier niet. \n  \nMet een piano\, een ukelele en veel percussie maakt Klets Kindercabaret er met de voorstelling KLETSKOUSEN! een groot feest van op het podium en iedereen in de zaal is uitgenodig \n
URL:https://uitinarnhem.nl/agenda/klets-kindercabaret-in-posttheater-arnhem/
LOCATION:Posttheater\, Rosendaalsestraat 27\, Arnhem\, 6824 CA\, Nederland
CATEGORIES:Kindvriendelijk,Theater
ATTACH;FMTTYPE=image/jpeg:https://uitinarnhem.nl/wp-content/uploads/2020/03/Posttheater-45253_1.jpg
END:VEVENT
END:VCALENDAR