BEGIN:VCALENDAR
VERSION:2.0
PRODID:-//Uit in Arnhem - ECPv5.0.0.2//NONSGML v1.0//EN
CALSCALE:GREGORIAN
METHOD:PUBLISH
X-WR-CALNAME:Uit in Arnhem
X-ORIGINAL-URL:https://uitinarnhem.nl
X-WR-CALDESC:Events for Uit in Arnhem
BEGIN:VTIMEZONE
TZID:Europe/Amsterdam
BEGIN:DAYLIGHT
TZOFFSETFROM:+0100
TZOFFSETTO:+0200
TZNAME:CEST
DTSTART:20240331T010000
END:DAYLIGHT
BEGIN:STANDARD
TZOFFSETFROM:+0200
TZOFFSETTO:+0100
TZNAME:CET
DTSTART:20241027T010000
END:STANDARD
END:VTIMEZONE
BEGIN:VEVENT
DTSTART;TZID=Europe/Amsterdam:20240726T190000
DTEND;TZID=Europe/Amsterdam:20240726T210000
DTSTAMP:20260423T142840
CREATED:20240701T132544Z
LAST-MODIFIED:20240701T132544Z
UID:9721-1722020400-1722027600@uitinarnhem.nl
SUMMARY:Kledingruil in Het Arnhems Gemaal
DESCRIPTION:Met een kledingruil doe je iets goeds voor jezelf\, voor een ander én voor de wereld! \nVrijdag 26 juli is alweer de vijfde editie van de kledingruil in Malburgen-West. Het Arnhems Gemaal opent haar deuren voor mensen die hun kleding een tweede leven willen geven\, én met een leuke nieuwe outfit naar huis willen gaan. Organisator Jessica Egberts vindt dat we anders moeten omgaan met kleding: ‘De kledingindustrie is slecht voor het milieu. Ook kinderarbeid die in de kledingindustrie omgaat gaf me een slecht gevoel. Kleding ruilen is duurzaam én leuk! Sinds ik minder kleding koop en meer kleding ruil ben ik me bewuster van wat ik écht nodig heb. Ook ben ik creatiever geworden in het combineren van kleding die ik al heb.’ Daarnaast wil Jessica met haar initiatief mensen samenbrengen. ‘Hoe mooi is het als je een ander blij kunt maken met kleding dat nooit gedragen wordt. En hoe gezellig is het om mensen te ontmoeten die er net zo over denken.’ Vrijdag 26 juli van 19:00 tot 21:00 zijn mensen welkom in het Arnhems Gemaal om maximaal 5 kledingstukken en 2 accessoires om te komen ruilen. Volg @kledingruil_arnhem op Instagram om op de hoogte te blijven van de volgende edities. \n  \n
URL:https://uitinarnhem.nl/agenda/kledingruil-in-het-arnhems-gemaal/
LOCATION:Het Arnhems Gemaal\, Gelderse Rooslaan 85\, Arnhem\, 6841 BE
CATEGORIES:Markt,Overig
ATTACH;FMTTYPE=image/jpeg:https://uitinarnhem.nl/wp-content/uploads/2024/07/Afbeelding-kledingruil-26-juli-2024.jpg
END:VEVENT
END:VCALENDAR