BEGIN:VCALENDAR
VERSION:2.0
PRODID:-//Uit in Arnhem - ECPv5.0.0.2//NONSGML v1.0//EN
CALSCALE:GREGORIAN
METHOD:PUBLISH
X-WR-CALNAME:Uit in Arnhem
X-ORIGINAL-URL:https://uitinarnhem.nl
X-WR-CALDESC:Events for Uit in Arnhem
BEGIN:VTIMEZONE
TZID:Europe/Amsterdam
BEGIN:DAYLIGHT
TZOFFSETFROM:+0100
TZOFFSETTO:+0200
TZNAME:CEST
DTSTART:20240331T010000
END:DAYLIGHT
BEGIN:STANDARD
TZOFFSETFROM:+0200
TZOFFSETTO:+0100
TZNAME:CET
DTSTART:20241027T010000
END:STANDARD
END:VTIMEZONE
BEGIN:VEVENT
DTSTART;TZID=Europe/Amsterdam:20240428T100000
DTEND;TZID=Europe/Amsterdam:20240512T180000
DTSTAMP:20260421T033648
CREATED:20240423T104716Z
LAST-MODIFIED:20240423T104716Z
UID:9035-1714298400-1715536800@uitinarnhem.nl
SUMMARY:Kinderprogramma Focus in de meivakantie
DESCRIPTION:Extra kinderfilms\, activiteiten en poffertjes eten in Focus Filmtheater\nKom vakantie vieren in Focus Filmtheater op het Audrey Hepburnplein in Arnhem! Traditiegetrouw staat bij Focus de meivakantie (28 april t/m 12 mei) in het teken van Focus Junior. Iedere dag is er voor verschillende leeftijden (vanaf 3 jaar) iets te doen. Naast de beste kinderfilms en gratis pauze-activiteiten\, kun je in Focus Eten en Drinken de hele vakantie tussen 11:30 en 16:00 uur voor maar €7\,50 (incl. Schulp sap) lekker poffertjes komen eten. \nFilms voor alle leeftijden!\nVoor de allerkleinsten vertoont Focus de lieve kinderfilm Het muizenhuis: Sam en Julia in de bioscoop (3+)\, naar de bekende verhalen van Karina Schaapman. Iets oudere kinderen kunnen komen kijken naar Vos en Haas redden het bos (5+)\, de nieuwe film van de regisseur van de veelbekroonde stopmotion-film Knor\, en de komische familiefilm Lucy Goes Gangsta (6+) waarin de altijd lieve Lucy wil leren om een bank te overvallen om de ijssalon van haar ouders te kunnen redden. \nGratis pauze-activiteiten\nBij een aantal voorstellingen zijn er gratis pauze-activiteiten. Zo kun je in de pauze van Lucy Goes Gangsta (6+) op 29 april om 13:30 en vrijdag 10 mei om 11:15 je eigen Gangsta-mugshot laten maken. Op donderdag 2 en maandag 6 mei kun je bij de voorstelling van Vos en Haas redden het bos (5+) om 14:00 uur op avontuur met je eigen reddingsvlot\, en bij de voorstelling van Het muizenhuis (3+) op vrijdag 3 mei om 11:00 uur en op vrijdag 10 mei om 10:30 uur worden er in de pauze leuke dingen gemaakt voor in het muizenhuis! \nBenieuwd naar het hele programma? Check het hier \n  \n
URL:https://uitinarnhem.nl/agenda/kinderprogramma-focus-in-de-meivakantie/
LOCATION:Focus Filmtheater\, Audrey Hepburnplein 1\, Arnhem\, 6811 EH\, Nederland
CATEGORIES:Film,Kindvriendelijk
ATTACH;FMTTYPE=image/jpeg:https://uitinarnhem.nl/wp-content/uploads/2024/04/Lucy-Goes-Gangsta_st_2_jpg_sd-low.jpg
END:VEVENT
END:VCALENDAR