BEGIN:VCALENDAR
VERSION:2.0
PRODID:-//Uit in Arnhem - ECPv5.0.0.2//NONSGML v1.0//EN
CALSCALE:GREGORIAN
METHOD:PUBLISH
X-WR-CALNAME:Uit in Arnhem
X-ORIGINAL-URL:https://uitinarnhem.nl
X-WR-CALDESC:Events for Uit in Arnhem
BEGIN:VTIMEZONE
TZID:Europe/Amsterdam
BEGIN:DAYLIGHT
TZOFFSETFROM:+0100
TZOFFSETTO:+0200
TZNAME:CEST
DTSTART:20250330T010000
END:DAYLIGHT
BEGIN:STANDARD
TZOFFSETFROM:+0200
TZOFFSETTO:+0100
TZNAME:CET
DTSTART:20251026T010000
END:STANDARD
END:VTIMEZONE
BEGIN:VEVENT
DTSTART;TZID=Europe/Amsterdam:20251221T140000
DTEND;TZID=Europe/Amsterdam:20251221T170000
DTSTAMP:20260421T053019
CREATED:20251203T132102Z
LAST-MODIFIED:20251203T132102Z
UID:13851-1766325600-1766336400@uitinarnhem.nl
SUMMARY:Kerstverhalen in het Colofon
DESCRIPTION:Vijf auteurs van de Verhalenfabriek komen kerstverhalen voorlezen in Het Colofon.  \nJanice Bakker: Kerst inn\nMarelle Boersma: Tussen twee vuren (kerst thriller\,)\nMarjolein van der Gaag: vijf voor 12\nTamara Onos: Kerst op de Carolinahoeve\nJanneke Stemerdink: Noelle’s tree \nzondag 21 december – 14.00 – 17.00 uur – vrij toegang \nVoor meer informatie over de 5 auteurs kijk op: https://www.hetcolofon.nl/index.php/podium-activiteiten/531-vijf-auteurs-vijf-kerstverhalen \n
URL:https://uitinarnhem.nl/agenda/kerstverhalen-in-het-colofon/
LOCATION:Het Colofon\, Bakkerstraat 56\, Arnhem\, 6811 EJ\, Nederland
CATEGORIES:Informatief & Verrijking,Overig
ATTACH;FMTTYPE=image/jpeg:https://uitinarnhem.nl/wp-content/uploads/2025/12/ic_large_w900h600q100_kerstbijdeverhalenfabriek.jpg
END:VEVENT
END:VCALENDAR